BEGIN:VCALENDAR
VERSION:2.0
PRODID:-//The Claremont Colleges Services - ECPv6.15.17.1//NONSGML v1.0//EN
CALSCALE:GREGORIAN
METHOD:PUBLISH
X-ORIGINAL-URL:https://services.claremont.edu
X-WR-CALDESC:Events for The Claremont Colleges Services
REFRESH-INTERVAL;VALUE=DURATION:PT1H
X-Robots-Tag:noindex
X-PUBLISHED-TTL:PT1H
BEGIN:VTIMEZONE
TZID:America/Los_Angeles
BEGIN:DAYLIGHT
TZOFFSETFROM:-0800
TZOFFSETTO:-0700
TZNAME:PDT
DTSTART:20240310T100000
END:DAYLIGHT
BEGIN:STANDARD
TZOFFSETFROM:-0700
TZOFFSETTO:-0800
TZNAME:PST
DTSTART:20241103T090000
END:STANDARD
BEGIN:DAYLIGHT
TZOFFSETFROM:-0800
TZOFFSETTO:-0700
TZNAME:PDT
DTSTART:20250309T100000
END:DAYLIGHT
BEGIN:STANDARD
TZOFFSETFROM:-0700
TZOFFSETTO:-0800
TZNAME:PST
DTSTART:20251102T090000
END:STANDARD
BEGIN:DAYLIGHT
TZOFFSETFROM:-0800
TZOFFSETTO:-0700
TZNAME:PDT
DTSTART:20260308T100000
END:DAYLIGHT
BEGIN:STANDARD
TZOFFSETFROM:-0700
TZOFFSETTO:-0800
TZNAME:PST
DTSTART:20261101T090000
END:STANDARD
END:VTIMEZONE
BEGIN:VEVENT
DTSTART;TZID=America/Los_Angeles:20250803T175654
DTEND;TZID=America/Los_Angeles:20250803T175654
DTSTAMP:20260425T172656
CREATED:20241025T175650Z
LAST-MODIFIED:20241025T175654Z
UID:10008550-1754243814-1754243814@services.claremont.edu
SUMMARY:
DESCRIPTION:For Mass Schedule\, please email \nbridgette.bentley@claremont.edu
URL:https://services.claremont.edu/event/catholic-mass-13-2/2025-08-03/
LOCATION:McAlister Center\, 919 N. Columbia Ave.\, Claremont\, CA\, 91711
END:VEVENT
BEGIN:VEVENT
DTSTART;TZID=America/Los_Angeles:20250808T170000
DTEND;TZID=America/Los_Angeles:20250808T180000
DTSTAMP:20260425T172656
CREATED:20251028T215629Z
LAST-MODIFIED:20260424T234305Z
UID:10009796-1754672400-1754676000@services.claremont.edu
SUMMARY:SHABBAT  - HAPPY HOUR
DESCRIPTION:CANDLES\,  WINE\, CHALLAH & FRIENDS. \nMOST FRIDAYS \n  \nOCT. 31ST  / NOV. 7TH  \, 14TH\, 21ST / DEC. 5TH \n  \nFOR MORE INFO CONTACT   RABBI SALOMON GRUENWALD \n  \nSalomon.gruenwald@claremont. edu
URL:https://services.claremont.edu/event/shabbat-happy-hour/2025-08-08/
LOCATION:McAlister Center\, 919 N. Columbia Ave.\, Claremont\, CA\, 91711
CATEGORIES:Chaplains
ATTACH;FMTTYPE=application/pdf:https://services.claremont.edu/wp-content/uploads/2025/10/Shabbat-Happy-Hour-Flyer.pdf
END:VEVENT
BEGIN:VEVENT
DTSTART;TZID=America/Los_Angeles:20250810T175654
DTEND;TZID=America/Los_Angeles:20250810T175654
DTSTAMP:20260425T172656
CREATED:20241025T175650Z
LAST-MODIFIED:20241025T175654Z
UID:10008551-1754848614-1754848614@services.claremont.edu
SUMMARY:
DESCRIPTION:For Mass Schedule\, please email \nbridgette.bentley@claremont.edu
URL:https://services.claremont.edu/event/catholic-mass-13-2/2025-08-10/
LOCATION:McAlister Center\, 919 N. Columbia Ave.\, Claremont\, CA\, 91711
END:VEVENT
BEGIN:VEVENT
DTSTART;TZID=America/Los_Angeles:20250815T170000
DTEND;TZID=America/Los_Angeles:20250815T180000
DTSTAMP:20260425T172656
CREATED:20251028T215629Z
LAST-MODIFIED:20260424T234305Z
UID:10009797-1755277200-1755280800@services.claremont.edu
SUMMARY:SHABBAT  - HAPPY HOUR
DESCRIPTION:CANDLES\,  WINE\, CHALLAH & FRIENDS. \nMOST FRIDAYS \n  \nOCT. 31ST  / NOV. 7TH  \, 14TH\, 21ST / DEC. 5TH \n  \nFOR MORE INFO CONTACT   RABBI SALOMON GRUENWALD \n  \nSalomon.gruenwald@claremont. edu
URL:https://services.claremont.edu/event/shabbat-happy-hour/2025-08-15/
LOCATION:McAlister Center\, 919 N. Columbia Ave.\, Claremont\, CA\, 91711
CATEGORIES:Chaplains
ATTACH;FMTTYPE=application/pdf:https://services.claremont.edu/wp-content/uploads/2025/10/Shabbat-Happy-Hour-Flyer.pdf
END:VEVENT
BEGIN:VEVENT
DTSTART;TZID=America/Los_Angeles:20250817T175654
DTEND;TZID=America/Los_Angeles:20250817T175654
DTSTAMP:20260425T172656
CREATED:20241025T175650Z
LAST-MODIFIED:20241025T175654Z
UID:10008552-1755453414-1755453414@services.claremont.edu
SUMMARY:
DESCRIPTION:For Mass Schedule\, please email \nbridgette.bentley@claremont.edu
URL:https://services.claremont.edu/event/catholic-mass-13-2/2025-08-17/
LOCATION:McAlister Center\, 919 N. Columbia Ave.\, Claremont\, CA\, 91711
END:VEVENT
BEGIN:VEVENT
DTSTART;VALUE=DATE:20250818
DTEND;VALUE=DATE:20250819
DTSTAMP:20260425T172656
CREATED:20250624T164330Z
LAST-MODIFIED:20250624T164330Z
UID:10008942-1755475200-1755561599@services.claremont.edu
SUMMARY:SHS Appointments for All Incoming First Years
DESCRIPTION:Starting August 18th\, 2025 \nNeed an appointment? Use our web-booking: My Health Portal
URL:https://services.claremont.edu/event/shs-appointments-for-all-incoming-first-years/
LOCATION:Student Health Services\, 757 College Way\, Claremont\, CA\, 91711
CATEGORIES:SHS
END:VEVENT
BEGIN:VEVENT
DTSTART;TZID=America/Los_Angeles:20250822T170000
DTEND;TZID=America/Los_Angeles:20250822T180000
DTSTAMP:20260425T172656
CREATED:20251028T215629Z
LAST-MODIFIED:20260424T234305Z
UID:10009798-1755882000-1755885600@services.claremont.edu
SUMMARY:SHABBAT  - HAPPY HOUR
DESCRIPTION:CANDLES\,  WINE\, CHALLAH & FRIENDS. \nMOST FRIDAYS \n  \nOCT. 31ST  / NOV. 7TH  \, 14TH\, 21ST / DEC. 5TH \n  \nFOR MORE INFO CONTACT   RABBI SALOMON GRUENWALD \n  \nSalomon.gruenwald@claremont. edu
URL:https://services.claremont.edu/event/shabbat-happy-hour/2025-08-22/
LOCATION:McAlister Center\, 919 N. Columbia Ave.\, Claremont\, CA\, 91711
CATEGORIES:Chaplains
ATTACH;FMTTYPE=application/pdf:https://services.claremont.edu/wp-content/uploads/2025/10/Shabbat-Happy-Hour-Flyer.pdf
END:VEVENT
BEGIN:VEVENT
DTSTART;TZID=America/Los_Angeles:20250822T181500
DTEND;TZID=America/Los_Angeles:20250822T200000
DTSTAMP:20260425T172656
CREATED:20250818T214904Z
LAST-MODIFIED:20250818T214904Z
UID:10009023-1755886500-1755892800@services.claremont.edu
SUMMARY:SHABBAT DINNER-  FIRST YEAR STUDENTS
DESCRIPTION:COME AND  JOIN US FOR SHABBAT DINNER – FIRST YEAR STUDENTS \n  \nON  FRIDAY\,  AUGUST 22ND\, 2025 @ 6:15PM   IN THE \nMCALISTER CENTER FOR RELIGIOUS AND SPIRITUAL LIFE \n919 N. COLUMBIA AVE \nCLAREMONT\, CA  91711 \nFOR MORE INFORMATION CONTACT:    RABBI SALOMON GRUENWALD   @   Salomon.Gruenwald@claremont.edu
URL:https://services.claremont.edu/event/shabbat-dinner-first-year-students/
LOCATION:McAlister Center\, 919 N. Columbia Ave.\, Claremont\, CA\, 91711
CATEGORIES:Chaplains
END:VEVENT
BEGIN:VEVENT
DTSTART;TZID=America/Los_Angeles:20250824T175654
DTEND;TZID=America/Los_Angeles:20250824T175654
DTSTAMP:20260425T172656
CREATED:20241025T175650Z
LAST-MODIFIED:20241025T175654Z
UID:10008553-1756058214-1756058214@services.claremont.edu
SUMMARY:
DESCRIPTION:For Mass Schedule\, please email \nbridgette.bentley@claremont.edu
URL:https://services.claremont.edu/event/catholic-mass-13-2/2025-08-24/
LOCATION:McAlister Center\, 919 N. Columbia Ave.\, Claremont\, CA\, 91711
END:VEVENT
BEGIN:VEVENT
DTSTART;TZID=America/Los_Angeles:20250829T170000
DTEND;TZID=America/Los_Angeles:20250829T180000
DTSTAMP:20260425T172656
CREATED:20251028T215629Z
LAST-MODIFIED:20260424T234305Z
UID:10009799-1756486800-1756490400@services.claremont.edu
SUMMARY:SHABBAT  - HAPPY HOUR
DESCRIPTION:CANDLES\,  WINE\, CHALLAH & FRIENDS. \nMOST FRIDAYS \n  \nOCT. 31ST  / NOV. 7TH  \, 14TH\, 21ST / DEC. 5TH \n  \nFOR MORE INFO CONTACT   RABBI SALOMON GRUENWALD \n  \nSalomon.gruenwald@claremont. edu
URL:https://services.claremont.edu/event/shabbat-happy-hour/2025-08-29/
LOCATION:McAlister Center\, 919 N. Columbia Ave.\, Claremont\, CA\, 91711
CATEGORIES:Chaplains
ATTACH;FMTTYPE=application/pdf:https://services.claremont.edu/wp-content/uploads/2025/10/Shabbat-Happy-Hour-Flyer.pdf
END:VEVENT
BEGIN:VEVENT
DTSTART;TZID=America/Los_Angeles:20250831T175654
DTEND;TZID=America/Los_Angeles:20250831T175654
DTSTAMP:20260425T172656
CREATED:20241025T175650Z
LAST-MODIFIED:20241025T175654Z
UID:10008554-1756663014-1756663014@services.claremont.edu
SUMMARY:
DESCRIPTION:For Mass Schedule\, please email \nbridgette.bentley@claremont.edu
URL:https://services.claremont.edu/event/catholic-mass-13-2/2025-08-31/
LOCATION:McAlister Center\, 919 N. Columbia Ave.\, Claremont\, CA\, 91711
END:VEVENT
BEGIN:VEVENT
DTSTART;TZID=America/Los_Angeles:20250905T170000
DTEND;TZID=America/Los_Angeles:20250905T180000
DTSTAMP:20260425T172656
CREATED:20251028T215629Z
LAST-MODIFIED:20260424T234305Z
UID:10009800-1757091600-1757095200@services.claremont.edu
SUMMARY:SHABBAT  - HAPPY HOUR
DESCRIPTION:CANDLES\,  WINE\, CHALLAH & FRIENDS. \nMOST FRIDAYS \n  \nOCT. 31ST  / NOV. 7TH  \, 14TH\, 21ST / DEC. 5TH \n  \nFOR MORE INFO CONTACT   RABBI SALOMON GRUENWALD \n  \nSalomon.gruenwald@claremont. edu
URL:https://services.claremont.edu/event/shabbat-happy-hour/2025-09-05/
LOCATION:McAlister Center\, 919 N. Columbia Ave.\, Claremont\, CA\, 91711
CATEGORIES:Chaplains
ATTACH;FMTTYPE=application/pdf:https://services.claremont.edu/wp-content/uploads/2025/10/Shabbat-Happy-Hour-Flyer.pdf
END:VEVENT
BEGIN:VEVENT
DTSTART;TZID=America/Los_Angeles:20250906T150000
DTEND;TZID=America/Los_Angeles:20250906T163000
DTSTAMP:20260425T172656
CREATED:20250915T051113Z
LAST-MODIFIED:20250915T051113Z
UID:10009222-1757170800-1757176200@services.claremont.edu
SUMMARY:Latines Law & Debate Mixer
DESCRIPTION:
URL:https://services.claremont.edu/event/latines-law-debate-mixer/
LOCATION:Chicano Latino Student Affairs Office\, 757 College Way\, Suite 2100\, Claremont\, CA\, 91711
CATEGORIES:CLSA
END:VEVENT
BEGIN:VEVENT
DTSTART;TZID=America/Los_Angeles:20250907T100000
DTEND;TZID=America/Los_Angeles:20250907T100000
DTSTAMP:20260425T172656
CREATED:20250906T035934Z
LAST-MODIFIED:20251205T075443Z
UID:10009027-1757239200-1757239200@services.claremont.edu
SUMMARY:Catholic Mass
DESCRIPTION:Rosary 9:30 AM \nChapel\, Confessions 9:30 AM
URL:https://services.claremont.edu/event/catholic-mass-20/2025-09-07/
LOCATION:McAlister Center\, 919 N. Columbia Ave.\, Claremont\, CA\, 91711
CATEGORIES:Chaplains
END:VEVENT
BEGIN:VEVENT
DTSTART;TZID=America/Los_Angeles:20250907T175654
DTEND;TZID=America/Los_Angeles:20250907T175654
DTSTAMP:20260425T172656
CREATED:20241025T175650Z
LAST-MODIFIED:20241025T175654Z
UID:10008555-1757267814-1757267814@services.claremont.edu
SUMMARY:
DESCRIPTION:For Mass Schedule\, please email \nbridgette.bentley@claremont.edu
URL:https://services.claremont.edu/event/catholic-mass-13-2/2025-09-07/
LOCATION:McAlister Center\, 919 N. Columbia Ave.\, Claremont\, CA\, 91711
END:VEVENT
BEGIN:VEVENT
DTSTART;TZID=America/Los_Angeles:20250908T170000
DTEND;TZID=America/Los_Angeles:20250908T170000
DTSTAMP:20260425T172656
CREATED:20250906T040305Z
LAST-MODIFIED:20251205T075234Z
UID:10009063-1757350800-1757350800@services.claremont.edu
SUMMARY:Eucharistic Adoration
DESCRIPTION:
URL:https://services.claremont.edu/event/eucharistic-adoration/2025-09-08/
LOCATION:McAlister Center\, 919 N. Columbia Ave.\, Claremont\, CA\, 91711
CATEGORIES:Chaplains
END:VEVENT
BEGIN:VEVENT
DTSTART;TZID=America/Los_Angeles:20250908T180000
DTEND;TZID=America/Los_Angeles:20250908T180000
DTSTAMP:20260425T172656
CREATED:20250906T041851Z
LAST-MODIFIED:20251205T075322Z
UID:10009099-1757354400-1757354400@services.claremont.edu
SUMMARY:Catholic Student Dinner
DESCRIPTION:McAlister Lounge at 6 PM \nBible Study to follow at 7 PM
URL:https://services.claremont.edu/event/catholic-student-dinner/2025-09-08/
LOCATION:McAlister Center\, 919 N. Columbia Ave.\, Claremont\, CA\, 91711
CATEGORIES:Chaplains
END:VEVENT
BEGIN:VEVENT
DTSTART;TZID=America/Los_Angeles:20250910T120000
DTEND;TZID=America/Los_Angeles:20250910T130000
DTSTAMP:20260425T172656
CREATED:20250906T042256Z
LAST-MODIFIED:20251118T221633Z
UID:10009135-1757505600-1757509200@services.claremont.edu
SUMMARY:Contemplation and Conversation with Lunch!
DESCRIPTION:RSL Library
URL:https://services.claremont.edu/event/contemplation-and-conversation-with-lunch/2025-09-10/
LOCATION:McAlister Center\, 919 N. Columbia Ave.\, Claremont\, CA\, 91711
CATEGORIES:Chaplains
END:VEVENT
BEGIN:VEVENT
DTSTART;TZID=America/Los_Angeles:20250910T170000
DTEND;TZID=America/Los_Angeles:20250910T190000
DTSTAMP:20260425T172656
CREATED:20250906T042900Z
LAST-MODIFIED:20250906T042900Z
UID:10009183-1757523600-1757530800@services.claremont.edu
SUMMARY:Affiliate/Student Club Meeting and Welcome Back
DESCRIPTION:
URL:https://services.claremont.edu/event/affiliate-student-club-meeting-and-welcome-back/
LOCATION:McAlister Center\, 919 N. Columbia Ave.\, Claremont\, CA\, 91711
CATEGORIES:Interfaith
END:VEVENT
BEGIN:VEVENT
DTSTART;TZID=America/Los_Angeles:20250912T113000
DTEND;TZID=America/Los_Angeles:20250912T133000
DTSTAMP:20260425T172657
CREATED:20250906T042624Z
LAST-MODIFIED:20251118T222047Z
UID:10009148-1757676600-1757683800@services.claremont.edu
SUMMARY:Frary Friday Lunch
DESCRIPTION:Catholic\, but open to all!
URL:https://services.claremont.edu/event/frary-friday-lunch/2025-09-12/
LOCATION:Frary Dining Hall\, 347 E 6th St\, Claremont\, CA\, 91711\, United States
CATEGORIES:Chaplains,Interfaith
END:VEVENT
BEGIN:VEVENT
DTSTART;TZID=America/Los_Angeles:20250912T120000
DTEND;TZID=America/Los_Angeles:20250912T133000
DTSTAMP:20260425T172657
CREATED:20250915T051248Z
LAST-MODIFIED:20250915T051248Z
UID:10009223-1757678400-1757683800@services.claremont.edu
SUMMARY:Latines in Medicine Mixer: Lunch and Learn
DESCRIPTION:
URL:https://services.claremont.edu/event/latines-in-medicine-mixer-lunch-and-learn/
LOCATION:Chicano Latino Student Affairs Office\, 757 College Way\, Suite 2100\, Claremont\, CA\, 91711
CATEGORIES:CLSA
END:VEVENT
BEGIN:VEVENT
DTSTART;TZID=America/Los_Angeles:20250912T123000
DTEND;TZID=America/Los_Angeles:20250912T133000
DTSTAMP:20260425T172657
CREATED:20250906T043042Z
LAST-MODIFIED:20251118T222131Z
UID:10009184-1757680200-1757683800@services.claremont.edu
SUMMARY:Jumma and Lunch
DESCRIPTION:McAlister Lounge
URL:https://services.claremont.edu/event/jumma-and-lunch/2025-09-12/
LOCATION:McAlister Center\, 919 N. Columbia Ave.\, Claremont\, CA\, 91711
CATEGORIES:Chaplains
END:VEVENT
BEGIN:VEVENT
DTSTART;TZID=America/Los_Angeles:20250912T170000
DTEND;TZID=America/Los_Angeles:20250912T180000
DTSTAMP:20260425T172657
CREATED:20251028T215629Z
LAST-MODIFIED:20260424T234305Z
UID:10009801-1757696400-1757700000@services.claremont.edu
SUMMARY:SHABBAT  - HAPPY HOUR
DESCRIPTION:CANDLES\,  WINE\, CHALLAH & FRIENDS. \nMOST FRIDAYS \n  \nOCT. 31ST  / NOV. 7TH  \, 14TH\, 21ST / DEC. 5TH \n  \nFOR MORE INFO CONTACT   RABBI SALOMON GRUENWALD \n  \nSalomon.gruenwald@claremont. edu
URL:https://services.claremont.edu/event/shabbat-happy-hour/2025-09-12/
LOCATION:McAlister Center\, 919 N. Columbia Ave.\, Claremont\, CA\, 91711
CATEGORIES:Chaplains
ATTACH;FMTTYPE=application/pdf:https://services.claremont.edu/wp-content/uploads/2025/10/Shabbat-Happy-Hour-Flyer.pdf
END:VEVENT
BEGIN:VEVENT
DTSTART;TZID=America/Los_Angeles:20250914T100000
DTEND;TZID=America/Los_Angeles:20250914T100000
DTSTAMP:20260425T172657
CREATED:20250906T035934Z
LAST-MODIFIED:20251205T075443Z
UID:10009028-1757844000-1757844000@services.claremont.edu
SUMMARY:Catholic Mass
DESCRIPTION:Rosary 9:30 AM \nChapel\, Confessions 9:30 AM
URL:https://services.claremont.edu/event/catholic-mass-20/2025-09-14/
LOCATION:McAlister Center\, 919 N. Columbia Ave.\, Claremont\, CA\, 91711
CATEGORIES:Chaplains
END:VEVENT
BEGIN:VEVENT
DTSTART;TZID=America/Los_Angeles:20250914T110000
DTEND;TZID=America/Los_Angeles:20250914T130000
DTSTAMP:20260425T172657
CREATED:20250915T053139Z
LAST-MODIFIED:20250915T053139Z
UID:10009239-1757847600-1757854800@services.claremont.edu
SUMMARY:Latinx Alumni Mixer
DESCRIPTION:
URL:https://services.claremont.edu/event/latinx-alumni-mixer/
LOCATION:The Motley\, Scripps College
CATEGORIES:CLSA
END:VEVENT
BEGIN:VEVENT
DTSTART;TZID=America/Los_Angeles:20250914T140000
DTEND;TZID=America/Los_Angeles:20250914T163000
DTSTAMP:20260425T172657
CREATED:20250822T211627Z
LAST-MODIFIED:20250822T211940Z
UID:10009024-1757858400-1757867400@services.claremont.edu
SUMMARY:Welcome B(l)ack Annual OBSA BBQ
DESCRIPTION:Join us for OBSA’s annual welcome event for 5C undergraduate students! We’ll have burgers and dogs on our brand new grill (vegan options available!)\, music and games on the patio\, and socializing indoors and outdoors. Meet the OBSA staff in a relaxing atmosphere\, learn about how to use the center and our plans for the fall. Bring a friend\, free and open to all!
URL:https://services.claremont.edu/event/welcome-black-annual-obsa-bbq/
LOCATION:OBSA Bungalow
CATEGORIES:OBSA
END:VEVENT
BEGIN:VEVENT
DTSTART;TZID=America/Los_Angeles:20250914T175654
DTEND;TZID=America/Los_Angeles:20250914T175654
DTSTAMP:20260425T172657
CREATED:20241025T175650Z
LAST-MODIFIED:20241025T175654Z
UID:10008556-1757872614-1757872614@services.claremont.edu
SUMMARY:
DESCRIPTION:For Mass Schedule\, please email \nbridgette.bentley@claremont.edu
URL:https://services.claremont.edu/event/catholic-mass-13-2/2025-09-14/
LOCATION:McAlister Center\, 919 N. Columbia Ave.\, Claremont\, CA\, 91711
END:VEVENT
BEGIN:VEVENT
DTSTART;TZID=America/Los_Angeles:20250914T180000
DTEND;TZID=America/Los_Angeles:20250914T203000
DTSTAMP:20260425T172657
CREATED:20250915T052739Z
LAST-MODIFIED:20250915T052739Z
UID:10009234-1757872800-1757881800@services.claremont.edu
SUMMARY:A Taste of Culture and Heritage
DESCRIPTION:
URL:https://services.claremont.edu/event/a-taste-of-culture-and-heritage/
LOCATION:Bowling Green Lawn\, Scripps College
CATEGORIES:CLSA
END:VEVENT
BEGIN:VEVENT
DTSTART;TZID=America/Los_Angeles:20250915T170000
DTEND;TZID=America/Los_Angeles:20250915T170000
DTSTAMP:20260425T172657
CREATED:20250906T040305Z
LAST-MODIFIED:20251205T075234Z
UID:10009064-1757955600-1757955600@services.claremont.edu
SUMMARY:Eucharistic Adoration
DESCRIPTION:
URL:https://services.claremont.edu/event/eucharistic-adoration/2025-09-15/
LOCATION:McAlister Center\, 919 N. Columbia Ave.\, Claremont\, CA\, 91711
CATEGORIES:Chaplains
END:VEVENT
BEGIN:VEVENT
DTSTART;TZID=America/Los_Angeles:20250915T180000
DTEND;TZID=America/Los_Angeles:20250915T180000
DTSTAMP:20260425T172657
CREATED:20250906T041851Z
LAST-MODIFIED:20251205T075322Z
UID:10009100-1757959200-1757959200@services.claremont.edu
SUMMARY:Catholic Student Dinner
DESCRIPTION:McAlister Lounge at 6 PM \nBible Study to follow at 7 PM
URL:https://services.claremont.edu/event/catholic-student-dinner/2025-09-15/
LOCATION:McAlister Center\, 919 N. Columbia Ave.\, Claremont\, CA\, 91711
CATEGORIES:Chaplains
END:VEVENT
END:VCALENDAR