BEGIN:VCALENDAR
VERSION:2.0
PRODID:-//The Claremont Colleges Services - ECPv6.15.17.1//NONSGML v1.0//EN
CALSCALE:GREGORIAN
METHOD:PUBLISH
X-WR-CALNAME:The Claremont Colleges Services
X-ORIGINAL-URL:https://services.claremont.edu
X-WR-CALDESC:Events for The Claremont Colleges Services
REFRESH-INTERVAL;VALUE=DURATION:PT1H
X-Robots-Tag:noindex
X-PUBLISHED-TTL:PT1H
BEGIN:VTIMEZONE
TZID:America/Los_Angeles
BEGIN:DAYLIGHT
TZOFFSETFROM:-0800
TZOFFSETTO:-0700
TZNAME:PDT
DTSTART:20240310T100000
END:DAYLIGHT
BEGIN:STANDARD
TZOFFSETFROM:-0700
TZOFFSETTO:-0800
TZNAME:PST
DTSTART:20241103T090000
END:STANDARD
BEGIN:DAYLIGHT
TZOFFSETFROM:-0800
TZOFFSETTO:-0700
TZNAME:PDT
DTSTART:20250309T100000
END:DAYLIGHT
BEGIN:STANDARD
TZOFFSETFROM:-0700
TZOFFSETTO:-0800
TZNAME:PST
DTSTART:20251102T090000
END:STANDARD
BEGIN:DAYLIGHT
TZOFFSETFROM:-0800
TZOFFSETTO:-0700
TZNAME:PDT
DTSTART:20260308T100000
END:DAYLIGHT
BEGIN:STANDARD
TZOFFSETFROM:-0700
TZOFFSETTO:-0800
TZNAME:PST
DTSTART:20261101T090000
END:STANDARD
END:VTIMEZONE
BEGIN:VEVENT
DTSTART;TZID=America/Los_Angeles:20251027T180000
DTEND;TZID=America/Los_Angeles:20251027T180000
DTSTAMP:20260425T200109
CREATED:20250906T041851Z
LAST-MODIFIED:20251205T075322Z
UID:10009106-1761588000-1761588000@services.claremont.edu
SUMMARY:Catholic Student Dinner
DESCRIPTION:McAlister Lounge at 6 PM \nBible Study to follow at 7 PM
URL:https://services.claremont.edu/event/catholic-student-dinner/2025-10-27/
LOCATION:McAlister Center\, 919 N. Columbia Ave.\, Claremont\, CA\, 91711
CATEGORIES:Chaplains
END:VEVENT
BEGIN:VEVENT
DTSTART;TZID=America/Los_Angeles:20251027T170000
DTEND;TZID=America/Los_Angeles:20251027T170000
DTSTAMP:20260425T200109
CREATED:20250906T040305Z
LAST-MODIFIED:20251205T075234Z
UID:10009070-1761584400-1761584400@services.claremont.edu
SUMMARY:Eucharistic Adoration
DESCRIPTION:
URL:https://services.claremont.edu/event/eucharistic-adoration/2025-10-27/
LOCATION:McAlister Center\, 919 N. Columbia Ave.\, Claremont\, CA\, 91711
CATEGORIES:Chaplains
END:VEVENT
BEGIN:VEVENT
DTSTART;TZID=America/Los_Angeles:20251027T140000
DTEND;TZID=America/Los_Angeles:20251027T160000
DTSTAMP:20260425T200109
CREATED:20251001T171556Z
LAST-MODIFIED:20251107T234524Z
UID:10009274-1761573600-1761580800@services.claremont.edu
SUMMARY:Mental Wellness Mondays: Weekly Drop in Office Hours w/MCAPS Senior Staff Psychologist Dr. Adrienne Hilliard
DESCRIPTION:Sign up for a 30 minute 1 on 1\, informal and confidential mental wellness check in with Dr. A from MCAPS! You can choose an in person or zoom meeting.\nDrop ins are welcome\, or RSVP here to choose a time slot
URL:https://services.claremont.edu/event/melanated-mondays-drop-in-office-hours-with-mcaps-senior-staff-psychologist-dr-adrienne-hilliard/2025-10-27/
LOCATION:OBSA Conference Room
CATEGORIES:MCAPS,OBSA
END:VEVENT
BEGIN:VEVENT
DTSTART;TZID=America/Los_Angeles:20251027T130000
DTEND;TZID=America/Los_Angeles:20251027T140000
DTSTAMP:20260425T200109
CREATED:20251024T205238Z
LAST-MODIFIED:20251024T205540Z
UID:10009408-1761570000-1761573600@services.claremont.edu
SUMMARY:Body Compassion Week: Boo Grams MCAPS Workshop
DESCRIPTION:Join us in making boo grams! Sending a boo gram is a way to show appreciation to others. Our boo grams are halloween themed and will focus on qualities and traits that are not related to body size or appearance. \nhttps://services.claremont.edu/wp-content/uploads/2025/10/2.jpg
URL:https://services.claremont.edu/event/boo-grams-mcaps-workshop/
LOCATION:McConnell Dining Hall
CATEGORIES:Nutrition Services
END:VEVENT
BEGIN:VEVENT
DTSTART;TZID=America/Los_Angeles:20251026T175654
DTEND;TZID=America/Los_Angeles:20251026T175654
DTSTAMP:20260425T200109
CREATED:20241025T175650Z
LAST-MODIFIED:20241025T175654Z
UID:10008562-1761501414-1761501414@services.claremont.edu
SUMMARY:
DESCRIPTION:For Mass Schedule\, please email \nbridgette.bentley@claremont.edu
URL:https://services.claremont.edu/event/catholic-mass-13-2/2025-10-26/
LOCATION:McAlister Center\, 919 N. Columbia Ave.\, Claremont\, CA\, 91711
END:VEVENT
BEGIN:VEVENT
DTSTART;TZID=America/Los_Angeles:20251026T100000
DTEND;TZID=America/Los_Angeles:20251026T100000
DTSTAMP:20260425T200109
CREATED:20250906T035934Z
LAST-MODIFIED:20251205T075443Z
UID:10009034-1761472800-1761472800@services.claremont.edu
SUMMARY:Catholic Mass
DESCRIPTION:Rosary 9:30 AM \nChapel\, Confessions 9:30 AM
URL:https://services.claremont.edu/event/catholic-mass-20/2025-10-26/
LOCATION:McAlister Center\, 919 N. Columbia Ave.\, Claremont\, CA\, 91711
CATEGORIES:Chaplains
END:VEVENT
BEGIN:VEVENT
DTSTART;TZID=America/Los_Angeles:20251024T170000
DTEND;TZID=America/Los_Angeles:20251024T180000
DTSTAMP:20260425T200109
CREATED:20251028T215629Z
LAST-MODIFIED:20260424T234305Z
UID:10009807-1761325200-1761328800@services.claremont.edu
SUMMARY:SHABBAT  - HAPPY HOUR
DESCRIPTION:CANDLES\,  WINE\, CHALLAH & FRIENDS. \nMOST FRIDAYS \n  \nOCT. 31ST  / NOV. 7TH  \, 14TH\, 21ST / DEC. 5TH \n  \nFOR MORE INFO CONTACT   RABBI SALOMON GRUENWALD \n  \nSalomon.gruenwald@claremont. edu
URL:https://services.claremont.edu/event/shabbat-happy-hour/2025-10-24/
LOCATION:McAlister Center\, 919 N. Columbia Ave.\, Claremont\, CA\, 91711
CATEGORIES:Chaplains
ATTACH;FMTTYPE=application/pdf:https://services.claremont.edu/wp-content/uploads/2025/10/Shabbat-Happy-Hour-Flyer.pdf
END:VEVENT
BEGIN:VEVENT
DTSTART;TZID=America/Los_Angeles:20251024T123000
DTEND;TZID=America/Los_Angeles:20251024T133000
DTSTAMP:20260425T200109
CREATED:20250906T043042Z
LAST-MODIFIED:20251118T222131Z
UID:10009190-1761309000-1761312600@services.claremont.edu
SUMMARY:Jumma and Lunch
DESCRIPTION:McAlister Lounge
URL:https://services.claremont.edu/event/jumma-and-lunch/2025-10-24/
LOCATION:McAlister Center\, 919 N. Columbia Ave.\, Claremont\, CA\, 91711
CATEGORIES:Chaplains
END:VEVENT
BEGIN:VEVENT
DTSTART;TZID=America/Los_Angeles:20251024T113000
DTEND;TZID=America/Los_Angeles:20251024T133000
DTSTAMP:20260425T200109
CREATED:20250906T042624Z
LAST-MODIFIED:20251118T222047Z
UID:10009154-1761305400-1761312600@services.claremont.edu
SUMMARY:Frary Friday Lunch
DESCRIPTION:Catholic\, but open to all!
URL:https://services.claremont.edu/event/frary-friday-lunch/2025-10-24/
LOCATION:Frary Dining Hall\, 347 E 6th St\, Claremont\, CA\, 91711\, United States
CATEGORIES:Chaplains,Interfaith
END:VEVENT
BEGIN:VEVENT
DTSTART;TZID=America/Los_Angeles:20251024T113000
DTEND;TZID=America/Los_Angeles:20251024T130000
DTSTAMP:20260425T200109
CREATED:20250929T212619Z
LAST-MODIFIED:20250929T212942Z
UID:10009268-1761305400-1761310800@services.claremont.edu
SUMMARY:Feel Good Friday: Break-Up Bootcamp Part 2
DESCRIPTION:Workshop with Dr. Adrienne Hilliard! No sign-up needed. \nContact group coordinator: jessica.demerdjian@claremont.edu
URL:https://services.claremont.edu/event/feel-good-friday-break-up-bootcamp-part-2/
LOCATION:MCAPS Annex\, Tranquada Center\, 757 N College Ave\, Claremont\, CA\, 91711
CATEGORIES:MCAPS
END:VEVENT
BEGIN:VEVENT
DTSTART;TZID=America/Los_Angeles:20251023T190000
DTEND;TZID=America/Los_Angeles:20251023T190000
DTSTAMP:20260425T200109
CREATED:20250915T052837Z
LAST-MODIFIED:20250915T052837Z
UID:10009235-1761246000-1761246000@services.claremont.edu
SUMMARY:Musica\, Muralista\, Altarista! Remembering Alfredo Ramos Martinez
DESCRIPTION:Honor the legacy of painter and muralist Alfredo Ramos Martínez and the stories of people in struggle through art\, music\, and community. The evening will begin at the Williamson Gallery with a short performance by the critically acclaimed mariachi group\, The Mata Family. A lively musical procession will then lead guests to the Margaret Fowler Memorial Garden—home to Martínez’s final mural Las Vendedoras de Flores (The Flower Vendors)—for the dedication of an altar by installation artists Ofelia Esparza and Rosanna Ahrens Esparza. The celebration will conclude with a concert by members of the Grammy Award–winning band\, Quetzal\, and a spirited fandango. Bring your dancing shoes and your love of music and art!
URL:https://services.claremont.edu/event/musica-muralista-altarista-remembering-alfredo-ramos-martinez/
LOCATION:Williamson Gallery\, Margaret Fowler Garden
CATEGORIES:CLSA
END:VEVENT
BEGIN:VEVENT
DTSTART;VALUE=DATE:20251023
DTEND;VALUE=DATE:20251024
DTSTAMP:20260425T200109
CREATED:20250922T230853Z
LAST-MODIFIED:20250922T230853Z
UID:10009264-1761177600-1761263999@services.claremont.edu
SUMMARY:Birth of the Bahá’u’lláh (Bahá’í)
DESCRIPTION:
URL:https://services.claremont.edu/event/birth-of-the-bahaullah-bahai/
CATEGORIES:Chaplains
END:VEVENT
BEGIN:VEVENT
DTSTART;TZID=America/Los_Angeles:20251022T160000
DTEND;TZID=America/Los_Angeles:20251022T170000
DTSTAMP:20260425T200109
CREATED:20251015T220313Z
LAST-MODIFIED:20251015T220356Z
UID:10009405-1761148800-1761152400@services.claremont.edu
SUMMARY:Coffee with the CLSA Deans @ Scripps
DESCRIPTION:The CLSA Deans would love to connect with you! Join them for great conversation and free drinks! \nhttps://services.claremont.edu/wp-content/uploads/2025/10/Coffee-October.png
URL:https://services.claremont.edu/event/coffee-with-the-clsa-deans-scripps/
LOCATION:The Motley\, Scripps College
CATEGORIES:CLSA
END:VEVENT
BEGIN:VEVENT
DTSTART;TZID=America/Los_Angeles:20251022T120000
DTEND;TZID=America/Los_Angeles:20251022T160000
DTSTAMP:20260425T200109
CREATED:20251001T222056Z
LAST-MODIFIED:20251001T222056Z
UID:10009337-1761134400-1761148800@services.claremont.edu
SUMMARY:Flu Shot Clinic
DESCRIPTION:Student Health Services\, in partnership with Hendricks Pharmacy\, is offering flu shot clinics on campus for undergraduate students. Don’t miss this convenient opportunity to get vaccinated ahead of flu season! \nRegister Here! \nhttps://services.claremont.edu/wp-content/uploads/2025/10/Campus-Clinic-Flyer-2025.jpg
URL:https://services.claremont.edu/event/flu-shot-clinic-6/
LOCATION:Pitzer’s Student Center MPR
CATEGORIES:SHS
END:VEVENT
BEGIN:VEVENT
DTSTART;TZID=America/Los_Angeles:20251022T120000
DTEND;TZID=America/Los_Angeles:20251022T130000
DTSTAMP:20260425T200109
CREATED:20250906T042256Z
LAST-MODIFIED:20251118T221633Z
UID:10009141-1761134400-1761138000@services.claremont.edu
SUMMARY:Contemplation and Conversation with Lunch!
DESCRIPTION:RSL Library
URL:https://services.claremont.edu/event/contemplation-and-conversation-with-lunch/2025-10-22/
LOCATION:McAlister Center\, 919 N. Columbia Ave.\, Claremont\, CA\, 91711
CATEGORIES:Chaplains
END:VEVENT
BEGIN:VEVENT
DTSTART;VALUE=DATE:20251022
DTEND;VALUE=DATE:20251023
DTSTAMP:20260425T200109
CREATED:20250922T230636Z
LAST-MODIFIED:20250922T230636Z
UID:10009263-1761091200-1761177599@services.claremont.edu
SUMMARY:Birth of the Báb (Bahá'í)
DESCRIPTION:
URL:https://services.claremont.edu/event/birth-of-the-bab-bahai/
CATEGORIES:Chaplains
END:VEVENT
BEGIN:VEVENT
DTSTART;TZID=America/Los_Angeles:20251021T180000
DTEND;TZID=America/Los_Angeles:20251021T200000
DTSTAMP:20260425T200109
CREATED:20250922T183535Z
LAST-MODIFIED:20251001T171836Z
UID:10009252-1761069600-1761076800@services.claremont.edu
SUMMARY:OBSA Fellow Office Hours at SCORE
DESCRIPTION:Tuesdays starting September 23\, 6-7pm at Scripps SCORE (1030 Columbia Ave\, # 2011) \nStop by and say hi to OBSA fellows and Scripps students Ahlam and Ryann for their joint hours with SCORE (Scripps Communities of Resources and Empowerment) student interns! Open to all students and a great opportunity for Scripps students to get to know both OBSA and SCORE\, share ideas\, participate in a fun themed activity and hang!  \nOpen to all students
URL:https://services.claremont.edu/event/obsa-fellow-office-hours-at-score/2025-10-21/
LOCATION:Scripps SCORE\, 1111 Amherst Ave.\, Claremont\, CA\, 91711
CATEGORIES:OBSA
END:VEVENT
BEGIN:VEVENT
DTSTART;TZID=America/Los_Angeles:20251021T120000
DTEND;TZID=America/Los_Angeles:20251021T160000
DTSTAMP:20260425T200109
CREATED:20251001T221958Z
LAST-MODIFIED:20251001T221958Z
UID:10009336-1761048000-1761062400@services.claremont.edu
SUMMARY:Flu Shot Clinic
DESCRIPTION:Student Health Services\, in partnership with Hendricks Pharmacy\, is offering flu shot clinics on campus for undergraduate students. Don’t miss this convenient opportunity to get vaccinated ahead of flu season! \nRegister Here! \nhttps://services.claremont.edu/wp-content/uploads/2025/10/Campus-Clinic-Flyer-2025.jpg
URL:https://services.claremont.edu/event/flu-shot-clinic-5/
LOCATION:Balch Auditorium     Scripps College
CATEGORIES:SHS
END:VEVENT
BEGIN:VEVENT
DTSTART;TZID=America/Los_Angeles:20251020T180000
DTEND;TZID=America/Los_Angeles:20251020T180000
DTSTAMP:20260425T200109
CREATED:20250906T041851Z
LAST-MODIFIED:20251205T075322Z
UID:10009105-1760983200-1760983200@services.claremont.edu
SUMMARY:Catholic Student Dinner
DESCRIPTION:McAlister Lounge at 6 PM \nBible Study to follow at 7 PM
URL:https://services.claremont.edu/event/catholic-student-dinner/2025-10-20/
LOCATION:McAlister Center\, 919 N. Columbia Ave.\, Claremont\, CA\, 91711
CATEGORIES:Chaplains
END:VEVENT
BEGIN:VEVENT
DTSTART;TZID=America/Los_Angeles:20251020T170000
DTEND;TZID=America/Los_Angeles:20251020T170000
DTSTAMP:20260425T200109
CREATED:20250906T040305Z
LAST-MODIFIED:20251205T075234Z
UID:10009069-1760979600-1760979600@services.claremont.edu
SUMMARY:Eucharistic Adoration
DESCRIPTION:
URL:https://services.claremont.edu/event/eucharistic-adoration/2025-10-20/
LOCATION:McAlister Center\, 919 N. Columbia Ave.\, Claremont\, CA\, 91711
CATEGORIES:Chaplains
END:VEVENT
BEGIN:VEVENT
DTSTART;TZID=America/Los_Angeles:20251020T140000
DTEND;TZID=America/Los_Angeles:20251020T160000
DTSTAMP:20260425T200109
CREATED:20251001T171556Z
LAST-MODIFIED:20251107T234524Z
UID:10009273-1760968800-1760976000@services.claremont.edu
SUMMARY:Mental Wellness Mondays: Weekly Drop in Office Hours w/MCAPS Senior Staff Psychologist Dr. Adrienne Hilliard
DESCRIPTION:Sign up for a 30 minute 1 on 1\, informal and confidential mental wellness check in with Dr. A from MCAPS! You can choose an in person or zoom meeting.\nDrop ins are welcome\, or RSVP here to choose a time slot
URL:https://services.claremont.edu/event/melanated-mondays-drop-in-office-hours-with-mcaps-senior-staff-psychologist-dr-adrienne-hilliard/2025-10-20/
LOCATION:OBSA Conference Room
CATEGORIES:MCAPS,OBSA
END:VEVENT
BEGIN:VEVENT
DTSTART;TZID=America/Los_Angeles:20251020T130000
DTEND;TZID=America/Los_Angeles:20251020T170000
DTSTAMP:20260425T200109
CREATED:20251001T221654Z
LAST-MODIFIED:20251001T221654Z
UID:10009335-1760965200-1760979600@services.claremont.edu
SUMMARY:Flu Shot Clinic
DESCRIPTION:Student Health Services\, in partnership with Hendricks Pharmacy\, is offering flu shot clinics on campus for undergraduate students. Don’t miss this convenient opportunity to get vaccinated ahead of flu season! \nRegister Here \n\n\n\n\nhttps://services.claremont.edu/wp-content/uploads/2025/10/Campus-Clinic-Flyer-2025.jpg
URL:https://services.claremont.edu/event/flu-shot-clinic-4/
LOCATION:Edmunds Ballroom\, Smith Campus Center
CATEGORIES:SHS
END:VEVENT
BEGIN:VEVENT
DTSTART;TZID=America/Los_Angeles:20251019T175654
DTEND;TZID=America/Los_Angeles:20251019T175654
DTSTAMP:20260425T200109
CREATED:20241025T175650Z
LAST-MODIFIED:20241025T175654Z
UID:10008561-1760896614-1760896614@services.claremont.edu
SUMMARY:
DESCRIPTION:For Mass Schedule\, please email \nbridgette.bentley@claremont.edu
URL:https://services.claremont.edu/event/catholic-mass-13-2/2025-10-19/
LOCATION:McAlister Center\, 919 N. Columbia Ave.\, Claremont\, CA\, 91711
END:VEVENT
BEGIN:VEVENT
DTSTART;TZID=America/Los_Angeles:20251019T100000
DTEND;TZID=America/Los_Angeles:20251019T100000
DTSTAMP:20260425T200109
CREATED:20250906T035934Z
LAST-MODIFIED:20251205T075443Z
UID:10009033-1760868000-1760868000@services.claremont.edu
SUMMARY:Catholic Mass
DESCRIPTION:Rosary 9:30 AM \nChapel\, Confessions 9:30 AM
URL:https://services.claremont.edu/event/catholic-mass-20/2025-10-19/
LOCATION:McAlister Center\, 919 N. Columbia Ave.\, Claremont\, CA\, 91711
CATEGORIES:Chaplains
END:VEVENT
BEGIN:VEVENT
DTSTART;TZID=America/Los_Angeles:20251017T183000
DTEND;TZID=America/Los_Angeles:20251017T210000
DTSTAMP:20260425T200109
CREATED:20250922T183215Z
LAST-MODIFIED:20250922T183234Z
UID:10009247-1760725800-1760734800@services.claremont.edu
SUMMARY:OBSA Movie Night: Friday
DESCRIPTION:Join OBSA for an outdoor movie night showing the 90s classic\, Friday! \nWe’ll have comfortable seating\, heat lamps and snacks and watch the movie on the OBSA patio. A perfect opportunity to get together\, meet other students and enjoy community. Bring your own comfy blanket! \nOpen to all\, bring a friend! \n6:30pm snacks! \n7pm movie \n 
URL:https://services.claremont.edu/event/obsa-movie-night-friday/
LOCATION:OBSA\, 139 E. 7th st\, Claremont\, CA
CATEGORIES:OBSA
END:VEVENT
BEGIN:VEVENT
DTSTART;TZID=America/Los_Angeles:20251017T170000
DTEND;TZID=America/Los_Angeles:20251017T180000
DTSTAMP:20260425T200109
CREATED:20251028T215629Z
LAST-MODIFIED:20260424T234305Z
UID:10009806-1760720400-1760724000@services.claremont.edu
SUMMARY:SHABBAT  - HAPPY HOUR
DESCRIPTION:CANDLES\,  WINE\, CHALLAH & FRIENDS. \nMOST FRIDAYS \n  \nOCT. 31ST  / NOV. 7TH  \, 14TH\, 21ST / DEC. 5TH \n  \nFOR MORE INFO CONTACT   RABBI SALOMON GRUENWALD \n  \nSalomon.gruenwald@claremont. edu
URL:https://services.claremont.edu/event/shabbat-happy-hour/2025-10-17/
LOCATION:McAlister Center\, 919 N. Columbia Ave.\, Claremont\, CA\, 91711
CATEGORIES:Chaplains
ATTACH;FMTTYPE=application/pdf:https://services.claremont.edu/wp-content/uploads/2025/10/Shabbat-Happy-Hour-Flyer.pdf
END:VEVENT
BEGIN:VEVENT
DTSTART;TZID=America/Los_Angeles:20251017T140000
DTEND;TZID=America/Los_Angeles:20251017T180000
DTSTAMP:20260425T200109
CREATED:20251001T221252Z
LAST-MODIFIED:20251001T221359Z
UID:10009334-1760709600-1760724000@services.claremont.edu
SUMMARY:Flu Shot Clinic
DESCRIPTION:Student Health Services\, in partnership with Hendricks Pharmacy\, is offering flu shot clinics on campus for undergraduate students. Don’t miss this convenient opportunity to get vaccinated ahead of flu season! \nRegister Here! \nhttps://services.claremont.edu/wp-content/uploads/2025/10/Campus-Clinic-Flyer-2025.jpg
URL:https://services.claremont.edu/event/flu-shot-clinic-3/
LOCATION:CMC’s Studio B\, Roberts Pavilion
CATEGORIES:SHS
END:VEVENT
BEGIN:VEVENT
DTSTART;TZID=America/Los_Angeles:20251017T123000
DTEND;TZID=America/Los_Angeles:20251017T133000
DTSTAMP:20260425T200109
CREATED:20250906T043042Z
LAST-MODIFIED:20251118T222131Z
UID:10009189-1760704200-1760707800@services.claremont.edu
SUMMARY:Jumma and Lunch
DESCRIPTION:McAlister Lounge
URL:https://services.claremont.edu/event/jumma-and-lunch/2025-10-17/
LOCATION:McAlister Center\, 919 N. Columbia Ave.\, Claremont\, CA\, 91711
CATEGORIES:Chaplains
END:VEVENT
BEGIN:VEVENT
DTSTART;TZID=America/Los_Angeles:20251017T113000
DTEND;TZID=America/Los_Angeles:20251017T133000
DTSTAMP:20260425T200109
CREATED:20250906T042624Z
LAST-MODIFIED:20251118T222047Z
UID:10009153-1760700600-1760707800@services.claremont.edu
SUMMARY:Frary Friday Lunch
DESCRIPTION:Catholic\, but open to all!
URL:https://services.claremont.edu/event/frary-friday-lunch/2025-10-17/
LOCATION:Frary Dining Hall\, 347 E 6th St\, Claremont\, CA\, 91711\, United States
CATEGORIES:Chaplains,Interfaith
END:VEVENT
BEGIN:VEVENT
DTSTART;TZID=America/Los_Angeles:20251017T113000
DTEND;TZID=America/Los_Angeles:20251017T130000
DTSTAMP:20260425T200109
CREATED:20250924T223856Z
LAST-MODIFIED:20250924T223856Z
UID:10009266-1760700600-1760706000@services.claremont.edu
SUMMARY:Feel Good Friday: Break-Up Bootcamp Part 1
DESCRIPTION:With Dr. Adrienne Hilliard! No sign up needed. \nContact group coordinator: jessica.demerdjian@claremont.edu
URL:https://services.claremont.edu/event/feel-good-friday-break-up-bootcamp-part-1/
LOCATION:Tranquada Center\, 757 N College Way
CATEGORIES:MCAPS
END:VEVENT
END:VCALENDAR