BEGIN:VCALENDAR
VERSION:2.0
PRODID:-//The Claremont Colleges Services - ECPv6.15.17.1//NONSGML v1.0//EN
CALSCALE:GREGORIAN
METHOD:PUBLISH
X-ORIGINAL-URL:https://services.claremont.edu
X-WR-CALDESC:Events for The Claremont Colleges Services
REFRESH-INTERVAL;VALUE=DURATION:PT1H
X-Robots-Tag:noindex
X-PUBLISHED-TTL:PT1H
BEGIN:VTIMEZONE
TZID:America/Los_Angeles
BEGIN:DAYLIGHT
TZOFFSETFROM:-0800
TZOFFSETTO:-0700
TZNAME:PDT
DTSTART:20250309T100000
END:DAYLIGHT
BEGIN:STANDARD
TZOFFSETFROM:-0700
TZOFFSETTO:-0800
TZNAME:PST
DTSTART:20251102T090000
END:STANDARD
BEGIN:DAYLIGHT
TZOFFSETFROM:-0800
TZOFFSETTO:-0700
TZNAME:PDT
DTSTART:20260308T100000
END:DAYLIGHT
BEGIN:STANDARD
TZOFFSETFROM:-0700
TZOFFSETTO:-0800
TZNAME:PST
DTSTART:20261101T090000
END:STANDARD
BEGIN:DAYLIGHT
TZOFFSETFROM:-0800
TZOFFSETTO:-0700
TZNAME:PDT
DTSTART:20270314T100000
END:DAYLIGHT
BEGIN:STANDARD
TZOFFSETFROM:-0700
TZOFFSETTO:-0800
TZNAME:PST
DTSTART:20271107T090000
END:STANDARD
END:VTIMEZONE
BEGIN:VEVENT
DTSTART;TZID=America/Los_Angeles:20260217T080000
DTEND;TZID=America/Los_Angeles:20260316T170000
DTSTAMP:20260423T220013
CREATED:20250818T190435Z
LAST-MODIFIED:20250818T190435Z
UID:10008947-1771315200-1773680400@services.claremont.edu
SUMMARY:RAMADAN 2026
DESCRIPTION:7C  RAMADAN AT THE CLAREMONT COLLEGES \n  \nFEBRUARY 17 TH  – MARCH 16TH \n  \nFOR MORE INFORMATION:       Iman Hadi Qazwini  @ hadi.qazwini@claremont.edu
URL:https://services.claremont.edu/event/ramadan-2026/
LOCATION:CA
CATEGORIES:Chaplains
END:VEVENT
BEGIN:VEVENT
DTSTART;TZID=America/Los_Angeles:20260217T130000
DTEND;TZID=America/Los_Angeles:20260217T150000
DTSTAMP:20260423T220013
CREATED:20260121T171933Z
LAST-MODIFIED:20260220T021550Z
UID:10009513-1771333200-1771340400@services.claremont.edu
SUMMARY:Let's Talk Tuesdays with Dr. Adrienne Hilliard
DESCRIPTION:Drop in for mental wellness check ins with Senior Staff Phychologist Dr. Adrienne Hilliard (MCAPS)! Session available Tuesdays Jan 27-May 4\, 2026 and will occur in the OBSA conference room \nRSVP in person or over zoom at https://calendly.com/adrienne-hilliard
URL:https://services.claremont.edu/event/lets-talk-tuesdays-with-dr-adrienne-hilliard/2026-02-17/
LOCATION:OBSA Conference Room
CATEGORIES:OBSA
END:VEVENT
BEGIN:VEVENT
DTSTART;TZID=America/Los_Angeles:20260217T190000
DTEND;TZID=America/Los_Angeles:20260217T200000
DTSTAMP:20260423T220013
CREATED:20260121T211025Z
LAST-MODIFIED:20260121T211025Z
UID:10009579-1771354800-1771358400@services.claremont.edu
SUMMARY:BLACK HISTORY MONTH EVENT the 38th Sojourner Truth Lecture
DESCRIPTION:Featuring celebrated activist\, filmmaker\, director and author Charlene Carruthers \nSponsored by IDAS
URL:https://services.claremont.edu/event/black-history-month-event-the-38th-sojourner-truth-lecture/
LOCATION:HMC Galileo
CATEGORIES:OBSA
END:VEVENT
BEGIN:VEVENT
DTSTART;TZID=America/Los_Angeles:20260218T120000
DTEND;TZID=America/Los_Angeles:20260218T170000
DTSTAMP:20260423T220013
CREATED:20260210T040625Z
LAST-MODIFIED:20260210T040625Z
UID:10009673-1771416000-1771434000@services.claremont.edu
SUMMARY:Ash Wednesday Service
DESCRIPTION:The Religious and Spiritual Life Department is hosting an Ash Wednesday Ecumenical Service \nand Ash Distribution in the McAlister Center \nService Time:  12:10pm – 1pm \nAsh Distribution until 5pm. \n  \nFor more information contact Fr. Vitus Mbamalu @ Vitus.Mbamalu@claremont.edu
URL:https://services.claremont.edu/event/ash-wednesday-service-2/
LOCATION:McAlister Center\, 919 N. Columbia Ave.\, Claremont\, CA\, 91711
CATEGORIES:Chaplains
ATTACH;FMTTYPE=image/jpeg:https://services.claremont.edu/wp-content/uploads/2026/02/Ash-Wednesday-2026-Vertical-Monitor-Ad.jpg
END:VEVENT
BEGIN:VEVENT
DTSTART;TZID=America/Los_Angeles:20260218T140000
DTEND;TZID=America/Los_Angeles:20260218T150000
DTSTAMP:20260423T220013
CREATED:20260211T003210Z
LAST-MODIFIED:20260211T003345Z
UID:10009675-1771423200-1771426800@services.claremont.edu
SUMMARY:Coffee with the CLSA Deans
DESCRIPTION:
URL:https://services.claremont.edu/event/coffee-with-the-clsa-deans-2/
LOCATION:The Pit Stop\, Pitzer College
CATEGORIES:CLSA
END:VEVENT
BEGIN:VEVENT
DTSTART;TZID=America/Los_Angeles:20260218T190000
DTEND;TZID=America/Los_Angeles:20260218T210000
DTSTAMP:20260423T220013
CREATED:20260203T225653Z
LAST-MODIFIED:20260219T215119Z
UID:10009604-1771441200-1771448400@services.claremont.edu
SUMMARY:Cozy Office Hours: Wednesdays with the OBSA Fellows
DESCRIPTION:drop in for… \n♡ tea \n♡ coffee \n♡ crafts \n♡ co-working \n& fun conversation with OBSA Fellows and Scripps students Ahlam and Ryann! \nWednesday evenings\, 7-9pm at SCORE (located at Scripps\, across from the Routt-Frankel Hall \nOpen to all!
URL:https://services.claremont.edu/event/cozy-office-hours-wednesdays-with-the-obsa-fellows/2026-02-18/
LOCATION:Scripps SCORE\, 1111 Amherst Ave.\, Claremont\, CA\, 91711
CATEGORIES:OBSA
END:VEVENT
BEGIN:VEVENT
DTSTART;TZID=America/Los_Angeles:20260219T110000
DTEND;TZID=America/Los_Angeles:20260219T130000
DTSTAMP:20260423T220013
CREATED:20260204T181922Z
LAST-MODIFIED:20260204T181922Z
UID:10009667-1771498800-1771506000@services.claremont.edu
SUMMARY:BLACK HISTORY MONTH EVENT Pomona BSU 5C faculty/student lunch
DESCRIPTION:Pomona BSU is hosting a student faculty get together! This is an opportunity for Black students across the 5C’s to meet and build relationships with Black professionals as well as be connected to a wider community here on campus. This event will be held on February 19th in the Hart Room 201 from 11am- 1pm. There will be games\, pizza\, and refreshments provided. \nIf you are interested\, please RSVP with this link so that we have a headcount of those able to attend. If you would like future events such as this one or are willing to have students reach out to just connect with\, you can also indicate that on the form. Any questions can be directed to pgph2022@mymail.pomona.edu.
URL:https://services.claremont.edu/event/black-history-month-event-pomona-bsu-5c-faculty-student-lunch/
LOCATION:Pomona SCC Hart 201
CATEGORIES:OBSA
END:VEVENT
BEGIN:VEVENT
DTSTART;TZID=America/Los_Angeles:20260219T140000
DTEND;TZID=America/Los_Angeles:20260219T170000
DTSTAMP:20260423T220013
CREATED:20260211T004556Z
LAST-MODIFIED:20260211T004557Z
UID:10009680-1771509600-1771520400@services.claremont.edu
SUMMARY:Take Care of Your Mental Health  Drop-in Hours with Dr. Dana Reye
DESCRIPTION:CLSA continues to team up with Dr. Dana Reyes\, MCAPS therapist\, to provide our students with additional wellness support. \nSIGN UP HERE
URL:https://services.claremont.edu/event/take-care-of-your-mental-health-drop-in-hours-with-dr-dana-reye/2026-02-19/
LOCATION:CLSA
CATEGORIES:CLSA
END:VEVENT
BEGIN:VEVENT
DTSTART;TZID=America/Los_Angeles:20260220T113000
DTEND;TZID=America/Los_Angeles:20260220T133000
DTSTAMP:20260423T220013
CREATED:20250906T042624Z
LAST-MODIFIED:20251118T222047Z
UID:10009171-1771587000-1771594200@services.claremont.edu
SUMMARY:Frary Friday Lunch
DESCRIPTION:Catholic\, but open to all!
URL:https://services.claremont.edu/event/frary-friday-lunch/2026-02-20/
LOCATION:Frary Dining Hall\, 347 E 6th St\, Claremont\, CA\, 91711\, United States
CATEGORIES:Chaplains,Interfaith
END:VEVENT
BEGIN:VEVENT
DTSTART;TZID=America/Los_Angeles:20260220T123000
DTEND;TZID=America/Los_Angeles:20260220T133000
DTSTAMP:20260423T220013
CREATED:20250906T043042Z
LAST-MODIFIED:20251118T222131Z
UID:10009207-1771590600-1771594200@services.claremont.edu
SUMMARY:Jumma and Lunch
DESCRIPTION:McAlister Lounge
URL:https://services.claremont.edu/event/jumma-and-lunch/2026-02-20/
LOCATION:McAlister Center\, 919 N. Columbia Ave.\, Claremont\, CA\, 91711
CATEGORIES:Chaplains
END:VEVENT
BEGIN:VEVENT
DTSTART;TZID=America/Los_Angeles:20260220T153000
DTEND;TZID=America/Los_Angeles:20260220T170000
DTSTAMP:20260423T220013
CREATED:20260203T224654Z
LAST-MODIFIED:20260203T224654Z
UID:10009599-1771601400-1771606800@services.claremont.edu
SUMMARY:BLACK HISTORY MONTH EVENT: Sip Snack & Paint with OBSA & MCAPS
DESCRIPTION:3:30PM -5:30pm @ HIVE STUDIO 2 \nPaint with a professional artist from Purple Easel. free boba & snacks! \nFree and open to all \nSpaces limited–RSVP at linktr.ee/claremont
URL:https://services.claremont.edu/event/black-history-month-event-sip-snack-paint-with-obsa-mcaps/
LOCATION:HIVE Studio 2
CATEGORIES:MCAPS,OBSA
END:VEVENT
BEGIN:VEVENT
DTSTART;TZID=America/Los_Angeles:20260220T153000
DTEND;TZID=America/Los_Angeles:20260220T173000
DTSTAMP:20260423T220013
CREATED:20260121T211224Z
LAST-MODIFIED:20260121T211240Z
UID:10009580-1771601400-1771608600@services.claremont.edu
SUMMARY:BLACK HISTORY MONTH EVENT CreativiTEA Paint and Sip with OBSA and MCAPS
DESCRIPTION:Join us for a relaxing late afternoon of Black History month themed painting\, with tea and snacks! Open to all \nHive Studio I
URL:https://services.claremont.edu/event/black-history-month-event-creativitea-paint-and-sip-with-obsa-and-mcaps/
LOCATION:The Hive\, Pomona College
END:VEVENT
BEGIN:VEVENT
DTSTART;TZID=America/Los_Angeles:20260220T170000
DTEND;TZID=America/Los_Angeles:20260220T180000
DTSTAMP:20260423T220013
CREATED:20251028T215629Z
LAST-MODIFIED:20251118T222237Z
UID:10009430-1771606800-1771610400@services.claremont.edu
SUMMARY:SHABBAT  - HAPPY HOUR
DESCRIPTION:CANDLES\,  WINE\, CHALLAH & FRIENDS. \nMOST FRIDAYS \n  \nOCT. 31ST  / NOV. 7TH  \, 14TH\, 21ST / DEC. 5TH \n  \nFOR MORE INFO CONTACT   RABBI SALOMON GRUENWALD \n  \nSalomon.gruenwald@claremont. edu
URL:https://services.claremont.edu/event/shabbat-happy-hour/2026-02-20/
LOCATION:McAlister Center\, 919 N. Columbia Ave.\, Claremont\, CA\, 91711
CATEGORIES:Chaplains
ATTACH;FMTTYPE=application/pdf:https://services.claremont.edu/wp-content/uploads/2025/10/Shabbat-Happy-Hour-Flyer.pdf
END:VEVENT
BEGIN:VEVENT
DTSTART;TZID=America/Los_Angeles:20260222T100000
DTEND;TZID=America/Los_Angeles:20260222T100000
DTSTAMP:20260423T220013
CREATED:20250906T035934Z
LAST-MODIFIED:20251205T075443Z
UID:10009051-1771754400-1771754400@services.claremont.edu
SUMMARY:Catholic Mass
DESCRIPTION:Rosary 9:30 AM \nChapel\, Confessions 9:30 AM
URL:https://services.claremont.edu/event/catholic-mass-20/2026-02-22/
LOCATION:McAlister Center\, 919 N. Columbia Ave.\, Claremont\, CA\, 91711
CATEGORIES:Chaplains
END:VEVENT
BEGIN:VEVENT
DTSTART;TZID=America/Los_Angeles:20260222T175654
DTEND;TZID=America/Los_Angeles:20260222T175654
DTSTAMP:20260423T220013
CREATED:20241025T175650Z
LAST-MODIFIED:20241025T175654Z
UID:10008579-1771783014-1771783014@services.claremont.edu
SUMMARY:
DESCRIPTION:For Mass Schedule\, please email \nbridgette.bentley@claremont.edu
URL:https://services.claremont.edu/event/catholic-mass-13-2/2026-02-22/
LOCATION:McAlister Center\, 919 N. Columbia Ave.\, Claremont\, CA\, 91711
END:VEVENT
BEGIN:VEVENT
DTSTART;TZID=America/Los_Angeles:20260223T153000
DTEND;TZID=America/Los_Angeles:20260223T163000
DTSTAMP:20260423T220013
CREATED:20260203T221832Z
LAST-MODIFIED:20260203T224108Z
UID:10009597-1771860600-1771864200@services.claremont.edu
SUMMARY:BLACK HISTORY MONTH EVENT: What were Federal "Redlining" Maps For? Guest Lecture with Dr. Scott Markley
DESCRIPTION:The Pitzer course Organizational Studies 180 will have a guest speaker – Scott Markley\, PhD\, Research Director at National Zoning Atlas – on the HOLC “redlining” maps of the 1930s. This guest lecture is open to the consortial community and will be held at the Broad Performance Space\, Pitzer College. \nTalk Description: An expanding body of research has sought to connect the Home Owners’ Loan Corporation’s (HOLC) “redlining” maps from the 1930s to a wide array of present-day social injustices in the United States. The assertion has been that these federally produced maps helped entrench emerging co-geographies of racial segregation and value that have continued to reproduce racial-spatial inequities through time. However\, the historical record is more complicated. In this talk\, Markley reevaluates what these maps and their accompanying field notes can (and cannot) tell us about the inter-generational transmission of racial inequality. Markley proposes that HOLC’s “redlining” documents should not be read as literal prescriptions about where the agency believed real estate investments should and should not be steered but as part of a larger\, state-backed spatial data science initiative that was about imposing order and predictability onto the housing landscape. \nMon Feb 23\, 3:30pm-4:30pm \nBroad Center Performance Space. Light refreshments served. \nFMI Contact: marilyn_grell-brisk@pitzer.edu
URL:https://services.claremont.edu/event/black-history-month-event-what-were-federal-redlining-maps-for-guest-lecture-with-dr-scott-markley/
LOCATION:CA
CATEGORIES:OBSA
END:VEVENT
BEGIN:VEVENT
DTSTART;TZID=America/Los_Angeles:20260223T170000
DTEND;TZID=America/Los_Angeles:20260223T170000
DTSTAMP:20260423T220013
CREATED:20250906T040305Z
LAST-MODIFIED:20251205T075234Z
UID:10009087-1771866000-1771866000@services.claremont.edu
SUMMARY:Eucharistic Adoration
DESCRIPTION:
URL:https://services.claremont.edu/event/eucharistic-adoration/2026-02-23/
LOCATION:McAlister Center\, 919 N. Columbia Ave.\, Claremont\, CA\, 91711
CATEGORIES:Chaplains
END:VEVENT
BEGIN:VEVENT
DTSTART;TZID=America/Los_Angeles:20260223T180000
DTEND;TZID=America/Los_Angeles:20260223T180000
DTSTAMP:20260423T220013
CREATED:20250906T041851Z
LAST-MODIFIED:20251205T075322Z
UID:10009123-1771869600-1771869600@services.claremont.edu
SUMMARY:Catholic Student Dinner
DESCRIPTION:McAlister Lounge at 6 PM \nBible Study to follow at 7 PM
URL:https://services.claremont.edu/event/catholic-student-dinner/2026-02-23/
LOCATION:McAlister Center\, 919 N. Columbia Ave.\, Claremont\, CA\, 91711
CATEGORIES:Chaplains
END:VEVENT
BEGIN:VEVENT
DTSTART;TZID=America/Los_Angeles:20260224T130000
DTEND;TZID=America/Los_Angeles:20260224T150000
DTSTAMP:20260423T220013
CREATED:20260121T171933Z
LAST-MODIFIED:20260220T021550Z
UID:10009514-1771938000-1771945200@services.claremont.edu
SUMMARY:Let's Talk Tuesdays with Dr. Adrienne Hilliard
DESCRIPTION:Drop in for mental wellness check ins with Senior Staff Phychologist Dr. Adrienne Hilliard (MCAPS)! Session available Tuesdays Jan 27-May 4\, 2026 and will occur in the OBSA conference room \nRSVP in person or over zoom at https://calendly.com/adrienne-hilliard
URL:https://services.claremont.edu/event/lets-talk-tuesdays-with-dr-adrienne-hilliard/2026-02-24/
LOCATION:OBSA Conference Room
CATEGORIES:OBSA
END:VEVENT
BEGIN:VEVENT
DTSTART;TZID=America/Los_Angeles:20260225T140000
DTEND;TZID=America/Los_Angeles:20260225T150000
DTSTAMP:20260423T220013
CREATED:20260211T003459Z
LAST-MODIFIED:20260211T003536Z
UID:10009676-1772028000-1772031600@services.claremont.edu
SUMMARY:Coffee with the CLSA Deans
DESCRIPTION:
URL:https://services.claremont.edu/event/coffee-with-the-clsa-deans-3/
LOCATION:The Coop Fountain\, Pomona College
CATEGORIES:CLSA
END:VEVENT
BEGIN:VEVENT
DTSTART;TZID=America/Los_Angeles:20260225T190000
DTEND;TZID=America/Los_Angeles:20260225T210000
DTSTAMP:20260423T220013
CREATED:20260203T225653Z
LAST-MODIFIED:20260219T215119Z
UID:10009605-1772046000-1772053200@services.claremont.edu
SUMMARY:Cozy Office Hours: Wednesdays with the OBSA Fellows
DESCRIPTION:drop in for… \n♡ tea \n♡ coffee \n♡ crafts \n♡ co-working \n& fun conversation with OBSA Fellows and Scripps students Ahlam and Ryann! \nWednesday evenings\, 7-9pm at SCORE (located at Scripps\, across from the Routt-Frankel Hall \nOpen to all!
URL:https://services.claremont.edu/event/cozy-office-hours-wednesdays-with-the-obsa-fellows/2026-02-25/
LOCATION:Scripps SCORE\, 1111 Amherst Ave.\, Claremont\, CA\, 91711
CATEGORIES:OBSA
END:VEVENT
BEGIN:VEVENT
DTSTART;TZID=America/Los_Angeles:20260226T120000
DTEND;TZID=America/Los_Angeles:20260226T130000
DTSTAMP:20260423T220013
CREATED:20260203T170806Z
LAST-MODIFIED:20260203T180708Z
UID:10009594-1772107200-1772110800@services.claremont.edu
SUMMARY:OBSA LUNCH & LEARN FINANCIAL LITERACY SERIES: Career Transitions with CGU Alum Clark Rucker (noon-1pm @ CGU Drucker)
DESCRIPTION:OBSA’s Spring Lunch & Learn Financial Literacy series returns! \nJoin us for a conversation with a CGU Alum Clark Rucker about career transitions post graduation. \nOpen to all\, great for current KGI and CGU students! \nFree lunch! \nRSVP for this session (as well as the March sessions) at linktr.ee/obsaclaremont
URL:https://services.claremont.edu/event/obsa-lunch-learn-financial-literacy-series-career-transitions-with-cgu-alum-clark-rucker-noon-1pm-cgu-drucker/
LOCATION:CGU Drucker
CATEGORIES:OBSA
END:VEVENT
BEGIN:VEVENT
DTSTART;TZID=America/Los_Angeles:20260226T140000
DTEND;TZID=America/Los_Angeles:20260226T170000
DTSTAMP:20260423T220013
CREATED:20260211T004556Z
LAST-MODIFIED:20260211T004557Z
UID:10009681-1772114400-1772125200@services.claremont.edu
SUMMARY:Take Care of Your Mental Health  Drop-in Hours with Dr. Dana Reye
DESCRIPTION:CLSA continues to team up with Dr. Dana Reyes\, MCAPS therapist\, to provide our students with additional wellness support. \nSIGN UP HERE
URL:https://services.claremont.edu/event/take-care-of-your-mental-health-drop-in-hours-with-dr-dana-reye/2026-02-26/
LOCATION:CLSA
CATEGORIES:CLSA
END:VEVENT
BEGIN:VEVENT
DTSTART;TZID=America/Los_Angeles:20260227T113000
DTEND;TZID=America/Los_Angeles:20260227T133000
DTSTAMP:20260423T220013
CREATED:20250906T042624Z
LAST-MODIFIED:20251118T222047Z
UID:10009172-1772191800-1772199000@services.claremont.edu
SUMMARY:Frary Friday Lunch
DESCRIPTION:Catholic\, but open to all!
URL:https://services.claremont.edu/event/frary-friday-lunch/2026-02-27/
LOCATION:Frary Dining Hall\, 347 E 6th St\, Claremont\, CA\, 91711\, United States
CATEGORIES:Chaplains,Interfaith
END:VEVENT
BEGIN:VEVENT
DTSTART;TZID=America/Los_Angeles:20260227T123000
DTEND;TZID=America/Los_Angeles:20260227T133000
DTSTAMP:20260423T220013
CREATED:20250906T043042Z
LAST-MODIFIED:20251118T222131Z
UID:10009208-1772195400-1772199000@services.claremont.edu
SUMMARY:Jumma and Lunch
DESCRIPTION:McAlister Lounge
URL:https://services.claremont.edu/event/jumma-and-lunch/2026-02-27/
LOCATION:McAlister Center\, 919 N. Columbia Ave.\, Claremont\, CA\, 91711
CATEGORIES:Chaplains
END:VEVENT
BEGIN:VEVENT
DTSTART;TZID=America/Los_Angeles:20260227T170000
DTEND;TZID=America/Los_Angeles:20260227T180000
DTSTAMP:20260423T220013
CREATED:20251028T215629Z
LAST-MODIFIED:20251118T222237Z
UID:10009431-1772211600-1772215200@services.claremont.edu
SUMMARY:SHABBAT  - HAPPY HOUR
DESCRIPTION:CANDLES\,  WINE\, CHALLAH & FRIENDS. \nMOST FRIDAYS \n  \nOCT. 31ST  / NOV. 7TH  \, 14TH\, 21ST / DEC. 5TH \n  \nFOR MORE INFO CONTACT   RABBI SALOMON GRUENWALD \n  \nSalomon.gruenwald@claremont. edu
URL:https://services.claremont.edu/event/shabbat-happy-hour/2026-02-27/
LOCATION:McAlister Center\, 919 N. Columbia Ave.\, Claremont\, CA\, 91711
CATEGORIES:Chaplains
ATTACH;FMTTYPE=application/pdf:https://services.claremont.edu/wp-content/uploads/2025/10/Shabbat-Happy-Hour-Flyer.pdf
END:VEVENT
BEGIN:VEVENT
DTSTART;TZID=America/Los_Angeles:20260228T140000
DTEND;TZID=America/Los_Angeles:20260228T190000
DTSTAMP:20260423T220013
CREATED:20260203T224946Z
LAST-MODIFIED:20260203T224946Z
UID:10009600-1772287200-1772305200@services.claremont.edu
SUMMARY:BLACK HISTORY MONTH EVENT: OBSA trip to Los Angeles Black Market Flea
DESCRIPTION:Beehive Studios in Los Angeles. \nOBSA Fellows are hosting a trip to Black Market Flea Los Angeles on Feb 28 from 2pm-7PM \nregister for a spot on the bus for free ticket reimbursement. TICKETS ON SALE NOW linktr.ee/obsaclaremont. (Attendees should buy their own ticket through the Black Market Flea site. OBSA will reimburse ticketholders who show proof of purchase AND sign up to ride the bus. \nSPACES LIMITED! BUS DEPARTS OBSA @2pm & returns BY 8pm.  \n5C STUDENTS ONLY.
URL:https://services.claremont.edu/event/black-history-month-event-obsa-trip-to-los-angeles-black-market-flea/
LOCATION:CA
CATEGORIES:OBSA
END:VEVENT
BEGIN:VEVENT
DTSTART;TZID=America/Los_Angeles:20260228T190000
DTEND;TZID=America/Los_Angeles:20260228T230000
DTSTAMP:20260423T220013
CREATED:20260203T225244Z
LAST-MODIFIED:20260203T225245Z
UID:10009601-1772305200-1772319600@services.claremont.edu
SUMMARY:BLACK HISTORY MONTH EVENT: Soundsex Soundscapes student DJ experience
DESCRIPTION:DJ DIABOLIXX & DJ RATIONAL AGENT PRESENT SOUNDSEX SOUNDSCAPES \n7pm-11pm @ OBSA Bungalow \nAn intimate\, genre-bending audiovisual experience inviting queer & Black community to connectivity and movement \nRefreshments provided! \ncosponsored by OBSA
URL:https://services.claremont.edu/event/black-history-month-event-soundsex-soundscapes-student-dj-experience/
LOCATION:CA
CATEGORIES:OBSA
END:VEVENT
BEGIN:VEVENT
DTSTART;TZID=America/Los_Angeles:20260301T100000
DTEND;TZID=America/Los_Angeles:20260301T100000
DTSTAMP:20260423T220013
CREATED:20250906T035934Z
LAST-MODIFIED:20251205T075443Z
UID:10009052-1772359200-1772359200@services.claremont.edu
SUMMARY:Catholic Mass
DESCRIPTION:Rosary 9:30 AM \nChapel\, Confessions 9:30 AM
URL:https://services.claremont.edu/event/catholic-mass-20/2026-03-01/
LOCATION:McAlister Center\, 919 N. Columbia Ave.\, Claremont\, CA\, 91711
CATEGORIES:Chaplains
END:VEVENT
BEGIN:VEVENT
DTSTART;TZID=America/Los_Angeles:20260301T175654
DTEND;TZID=America/Los_Angeles:20260301T175654
DTSTAMP:20260423T220013
CREATED:20241025T175650Z
LAST-MODIFIED:20241025T175654Z
UID:10008580-1772387814-1772387814@services.claremont.edu
SUMMARY:
DESCRIPTION:For Mass Schedule\, please email \nbridgette.bentley@claremont.edu
URL:https://services.claremont.edu/event/catholic-mass-13-2/2026-03-01/
LOCATION:McAlister Center\, 919 N. Columbia Ave.\, Claremont\, CA\, 91711
END:VEVENT
END:VCALENDAR