BEGIN:VCALENDAR
VERSION:2.0
PRODID:-//The Claremont Colleges Services - ECPv6.15.17.1//NONSGML v1.0//EN
CALSCALE:GREGORIAN
METHOD:PUBLISH
X-WR-CALNAME:The Claremont Colleges Services
X-ORIGINAL-URL:https://services.claremont.edu
X-WR-CALDESC:Events for The Claremont Colleges Services
REFRESH-INTERVAL;VALUE=DURATION:PT1H
X-Robots-Tag:noindex
X-PUBLISHED-TTL:PT1H
BEGIN:VTIMEZONE
TZID:America/Los_Angeles
BEGIN:DAYLIGHT
TZOFFSETFROM:-0800
TZOFFSETTO:-0700
TZNAME:PDT
DTSTART:20230312T100000
END:DAYLIGHT
BEGIN:STANDARD
TZOFFSETFROM:-0700
TZOFFSETTO:-0800
TZNAME:PST
DTSTART:20231105T090000
END:STANDARD
BEGIN:DAYLIGHT
TZOFFSETFROM:-0800
TZOFFSETTO:-0700
TZNAME:PDT
DTSTART:20240310T100000
END:DAYLIGHT
BEGIN:STANDARD
TZOFFSETFROM:-0700
TZOFFSETTO:-0800
TZNAME:PST
DTSTART:20241103T090000
END:STANDARD
BEGIN:DAYLIGHT
TZOFFSETFROM:-0800
TZOFFSETTO:-0700
TZNAME:PDT
DTSTART:20250309T100000
END:DAYLIGHT
BEGIN:STANDARD
TZOFFSETFROM:-0700
TZOFFSETTO:-0800
TZNAME:PST
DTSTART:20251102T090000
END:STANDARD
BEGIN:DAYLIGHT
TZOFFSETFROM:-0800
TZOFFSETTO:-0700
TZNAME:PDT
DTSTART:20260308T100000
END:DAYLIGHT
BEGIN:STANDARD
TZOFFSETFROM:-0700
TZOFFSETTO:-0800
TZNAME:PST
DTSTART:20261101T090000
END:STANDARD
END:VTIMEZONE
BEGIN:VEVENT
DTSTART;TZID=America/Los_Angeles:20241112T180000
DTEND;TZID=America/Los_Angeles:20241112T190000
DTSTAMP:20260425T204301
CREATED:20241108T023429Z
LAST-MODIFIED:20241108T023429Z
UID:10008780-1731434400-1731438000@services.claremont.edu
SUMMARY:OBSA/Draper Black Alternabreak Info Session
DESCRIPTION:Attend any info session to be eligible to attend the annual Black Alternabreak experience in Oakland\, California over spring break! Open to 5C students who identify as having African descent\, the immersive service learning experience is designed and delivered by students in collaboration with the Draper Center for Community Partnerships and The Office of Black Student Affairs. \nInfo sessions are a prerequisite to applying\, so attending one is REQUIRED for all students interested in participating. Alternabreak is a fully funded program offered at no cost to students\, and an application is required for selection.
URL:https://services.claremont.edu/event/obsa-draper-black-alternabreak-info-session/
LOCATION:Draper Center for Community Partnerships\, 735 N Dartmouth Ave\, Claremont
CATEGORIES:OBSA
END:VEVENT
BEGIN:VEVENT
DTSTART;TZID=America/Los_Angeles:20241113T180000
DTEND;TZID=America/Los_Angeles:20241113T190000
DTSTAMP:20260425T204301
CREATED:20241108T023536Z
LAST-MODIFIED:20241108T023536Z
UID:10008781-1731520800-1731524400@services.claremont.edu
SUMMARY:OBSA/Draper Black Alternabreak Info Session
DESCRIPTION:Attend any info session to be eligible to attend the annual Black Alternabreak experience in Oakland\, California over spring break! Open to 5C students who identify as having African descent\, the immersive service learning experience is designed and delivered by students in collaboration with the Draper Center for Community Partnerships and The Office of Black Student Affairs. \nInfo sessions are a prerequisite to applying\, so attending one is REQUIRED for all students interested in participating. Alternabreak is a fully funded program offered at no cost to students\, and an application is required for selection.
URL:https://services.claremont.edu/event/obsa-draper-black-alternabreak-info-session-2/
LOCATION:Draper Center for Community Partnerships\, 735 N Dartmouth Ave\, Claremont
CATEGORIES:OBSA
END:VEVENT
BEGIN:VEVENT
DTSTART;TZID=America/Los_Angeles:20241114T110000
DTEND;TZID=America/Los_Angeles:20241114T120000
DTSTAMP:20260425T204301
CREATED:20241023T195340Z
LAST-MODIFIED:20241023T195438Z
UID:10008384-1731582000-1731585600@services.claremont.edu
SUMMARY:Drop in Hours with OBSA Fellows Nekyla (KGI) & Abstract (CGU)
DESCRIPTION:
URL:https://services.claremont.edu/event/drop-in-hours-with-obsa-fellows-nekyla-kgi-abstract-cgu/2024-11-14/
LOCATION:OBSA\, 139 E. 7th st\, Claremont\, CA
CATEGORIES:OBSA
END:VEVENT
BEGIN:VEVENT
DTSTART;TZID=America/Los_Angeles:20241114T160000
DTEND;TZID=America/Los_Angeles:20241114T170000
DTSTAMP:20260425T204301
CREATED:20241023T195719Z
LAST-MODIFIED:20241023T195719Z
UID:10008442-1731600000-1731603600@services.claremont.edu
SUMMARY:Drop in Hours with OBSA Fellows Nekyla (KGI) & Abstract (CGU)
DESCRIPTION:
URL:https://services.claremont.edu/event/drop-in-hours-with-obsa-fellows-nekyla-kgi-abstract-cgu-2/2024-11-14/
LOCATION:OBSA\, 139 E. 7th st\, Claremont\, CA
CATEGORIES:OBSA
END:VEVENT
BEGIN:VEVENT
DTSTART;TZID=America/Los_Angeles:20241114T160000
DTEND;TZID=America/Los_Angeles:20241114T170000
DTSTAMP:20260425T204301
CREATED:20241204T221026Z
LAST-MODIFIED:20241204T221119Z
UID:10008792-1731600000-1731603600@services.claremont.edu
SUMMARY:Drop in Hours with OBSA Fellows Nekyla (KGI) & Abstract (CGU)
DESCRIPTION:
URL:https://services.claremont.edu/event/drop-in-hours-with-obsa-fellows-nekyla-kgi-abstract-cgu-2-2-2/
LOCATION:OBSA\, 139 E. 7th st\, Claremont\, CA
CATEGORIES:OBSA
END:VEVENT
BEGIN:VEVENT
DTSTART;TZID=America/Los_Angeles:20241114T190000
DTEND;TZID=America/Los_Angeles:20241114T200000
DTSTAMP:20260425T204301
CREATED:20241009T220501Z
LAST-MODIFIED:20241104T200443Z
UID:10008281-1731610800-1731614400@services.claremont.edu
SUMMARY:OBSA Wellness\, for Us Series: Yoga and Relaxation with Tasha Rideout
DESCRIPTION:Come to the OBSA bungalow for a yoga session led by expert Tasha Rideout\, centering on relaxation\, self-care other mindful practices. Bring a yoga mat\, comfortable workout attire and a towel. Yoga block optional. RSVP at https://forms.gle/2s7wEwxyKz4DsGov8 \nJoin us from 7-8pm!
URL:https://services.claremont.edu/event/obsa-wellness-for-us-series-yoga-and-relaxation-with-tasha-rideout/
LOCATION:OBSA Bungalow
CATEGORIES:OBSA
END:VEVENT
BEGIN:VEVENT
DTSTART;TZID=America/Los_Angeles:20241115T140000
DTEND;TZID=America/Los_Angeles:20241115T170000
DTSTAMP:20260425T204301
CREATED:20240916T224951Z
LAST-MODIFIED:20240917T223357Z
UID:10008088-1731679200-1731690000@services.claremont.edu
SUMMARY:Weekly Graduate Student Coworking sessions with OBSA's graduate fellows
DESCRIPTION:Open to KGI and CGU students interested in sharing productive coworking space for job searches\, research\, assignments\, prep and more! Enjoy the company of other students in community and make connections while advancing in your academic career. Hosted by the OBSA graduate fellows. No registration required\, feel free to bring food and beverages. Outlets and dry erase wall available for use!
URL:https://services.claremont.edu/event/weekly-graduate-student-coworking-sessions-with-obsas-graduate-fellows/2024-11-15/
LOCATION:OBSA Main House Conference Room\, 139 E 7th street\, Claremont\, California\, 91711
CATEGORIES:OBSA
END:VEVENT
BEGIN:VEVENT
DTSTART;TZID=America/Los_Angeles:20241116T140000
DTEND;TZID=America/Los_Angeles:20241116T160000
DTSTAMP:20260425T204301
CREATED:20241108T024141Z
LAST-MODIFIED:20241108T024842Z
UID:10008782-1731765600-1731772800@services.claremont.edu
SUMMARY:OBSA + Scripps Watu Weusi DeStress Nail Spa Day
DESCRIPTION:OBSA and Watu Weusi (Scripps’ Black-led student organization) present a spa outing for women and woman-identified students at a Claremont nail spa. Open to the first 10 students who RSVP (spa location and registration link available here on Nov 11)\, the event is a bonding study break to help students de-stress before finals. \n 
URL:https://services.claremont.edu/event/obsa-scripps-watu-weusi-destress-nail-spa-day/
LOCATION:OBSA\, 139 E. 7th st\, Claremont\, CA
CATEGORIES:OBSA
END:VEVENT
BEGIN:VEVENT
DTSTART;TZID=America/Los_Angeles:20241119T190000
DTEND;TZID=America/Los_Angeles:20241119T203000
DTSTAMP:20260425T204301
CREATED:20241104T200759Z
LAST-MODIFIED:20241104T200843Z
UID:10008775-1732042800-1732048200@services.claremont.edu
SUMMARY:OBSA Student Art Gallery Opening Celebration
DESCRIPTION:Join us for wine\, cheese and mocktails to celebrate OBSA’s new art gallery in the OBSA main house and bungalow. Showcasing student art from Pitzer\, Pomona and Scripps colleges\, OBSA’s gallery exhibition celebrates the work of Black student creatives. A community event free and open to all.  \nAn OBSA Art & Artist Engagement Series event.
URL:https://services.claremont.edu/event/obsa-student-art-gallery-opening-celebration/
LOCATION:OBSA\, 139 E. 7th st\, Claremont\, CA
CATEGORIES:OBSA
END:VEVENT
BEGIN:VEVENT
DTSTART;TZID=America/Los_Angeles:20241121T110000
DTEND;TZID=America/Los_Angeles:20241121T120000
DTSTAMP:20260425T204301
CREATED:20241023T195340Z
LAST-MODIFIED:20241023T195438Z
UID:10008385-1732186800-1732190400@services.claremont.edu
SUMMARY:Drop in Hours with OBSA Fellows Nekyla (KGI) & Abstract (CGU)
DESCRIPTION:
URL:https://services.claremont.edu/event/drop-in-hours-with-obsa-fellows-nekyla-kgi-abstract-cgu/2024-11-21/
LOCATION:OBSA\, 139 E. 7th st\, Claremont\, CA
CATEGORIES:OBSA
END:VEVENT
BEGIN:VEVENT
DTSTART;TZID=America/Los_Angeles:20241121T160000
DTEND;TZID=America/Los_Angeles:20241121T170000
DTSTAMP:20260425T204301
CREATED:20241023T195719Z
LAST-MODIFIED:20241023T195719Z
UID:10008443-1732204800-1732208400@services.claremont.edu
SUMMARY:Drop in Hours with OBSA Fellows Nekyla (KGI) & Abstract (CGU)
DESCRIPTION:
URL:https://services.claremont.edu/event/drop-in-hours-with-obsa-fellows-nekyla-kgi-abstract-cgu-2/2024-11-21/
LOCATION:OBSA\, 139 E. 7th st\, Claremont\, CA
CATEGORIES:OBSA
END:VEVENT
BEGIN:VEVENT
DTSTART;TZID=America/Los_Angeles:20241121T160000
DTEND;TZID=America/Los_Angeles:20241121T170000
DTSTAMP:20260425T204301
CREATED:20241125T211247Z
LAST-MODIFIED:20241125T211249Z
UID:10008789-1732204800-1732208400@services.claremont.edu
SUMMARY:Drop in Hours with OBSA Fellows Nekyla (KGI) & Abstract (CGU)
DESCRIPTION:
URL:https://services.claremont.edu/event/drop-in-hours-with-obsa-fellows-nekyla-kgi-abstract-cgu-2-2/2024-11-21/
LOCATION:OBSA\, 139 E. 7th st\, Claremont\, CA
CATEGORIES:OBSA
END:VEVENT
BEGIN:VEVENT
DTSTART;TZID=America/Los_Angeles:20241122T140000
DTEND;TZID=America/Los_Angeles:20241122T170000
DTSTAMP:20260425T204301
CREATED:20240916T224951Z
LAST-MODIFIED:20240917T223357Z
UID:10008090-1732284000-1732294800@services.claremont.edu
SUMMARY:Weekly Graduate Student Coworking sessions with OBSA's graduate fellows
DESCRIPTION:Open to KGI and CGU students interested in sharing productive coworking space for job searches\, research\, assignments\, prep and more! Enjoy the company of other students in community and make connections while advancing in your academic career. Hosted by the OBSA graduate fellows. No registration required\, feel free to bring food and beverages. Outlets and dry erase wall available for use!
URL:https://services.claremont.edu/event/weekly-graduate-student-coworking-sessions-with-obsas-graduate-fellows/2024-11-22/
LOCATION:OBSA Main House Conference Room\, 139 E 7th street\, Claremont\, California\, 91711
CATEGORIES:OBSA
END:VEVENT
BEGIN:VEVENT
DTSTART;TZID=America/Los_Angeles:20241125T080000
DTEND;TZID=America/Los_Angeles:20241125T170000
DTSTAMP:20260425T204301
CREATED:20241125T211247Z
LAST-MODIFIED:20241125T211249Z
UID:10008790-1732521600-1732554000@services.claremont.edu
SUMMARY:Drop in Hours with OBSA Fellows Nekyla (KGI) & Abstract (CGU)
DESCRIPTION:
URL:https://services.claremont.edu/event/drop-in-hours-with-obsa-fellows-nekyla-kgi-abstract-cgu-2-2/2024-11-25/
LOCATION:OBSA\, 139 E. 7th st\, Claremont\, CA
CATEGORIES:OBSA
END:VEVENT
BEGIN:VEVENT
DTSTART;TZID=America/Los_Angeles:20241128T110000
DTEND;TZID=America/Los_Angeles:20241128T120000
DTSTAMP:20260425T204301
CREATED:20241023T195340Z
LAST-MODIFIED:20241023T195438Z
UID:10008386-1732791600-1732795200@services.claremont.edu
SUMMARY:Drop in Hours with OBSA Fellows Nekyla (KGI) & Abstract (CGU)
DESCRIPTION:
URL:https://services.claremont.edu/event/drop-in-hours-with-obsa-fellows-nekyla-kgi-abstract-cgu/2024-11-28/
LOCATION:OBSA\, 139 E. 7th st\, Claremont\, CA
CATEGORIES:OBSA
END:VEVENT
BEGIN:VEVENT
DTSTART;TZID=America/Los_Angeles:20241128T160000
DTEND;TZID=America/Los_Angeles:20241128T170000
DTSTAMP:20260425T204301
CREATED:20241125T211247Z
LAST-MODIFIED:20241125T211249Z
UID:10008444-1732809600-1732813200@services.claremont.edu
SUMMARY:Drop in Hours with OBSA Fellows Nekyla (KGI) & Abstract (CGU)
DESCRIPTION:
URL:https://services.claremont.edu/event/drop-in-hours-with-obsa-fellows-nekyla-kgi-abstract-cgu-2-2/2024-11-28/
LOCATION:OBSA\, 139 E. 7th st\, Claremont\, CA
CATEGORIES:OBSA
END:VEVENT
BEGIN:VEVENT
DTSTART;TZID=America/Los_Angeles:20241129T140000
DTEND;TZID=America/Los_Angeles:20241129T170000
DTSTAMP:20260425T204301
CREATED:20240916T224951Z
LAST-MODIFIED:20240917T223357Z
UID:10008092-1732888800-1732899600@services.claremont.edu
SUMMARY:Weekly Graduate Student Coworking sessions with OBSA's graduate fellows
DESCRIPTION:Open to KGI and CGU students interested in sharing productive coworking space for job searches\, research\, assignments\, prep and more! Enjoy the company of other students in community and make connections while advancing in your academic career. Hosted by the OBSA graduate fellows. No registration required\, feel free to bring food and beverages. Outlets and dry erase wall available for use!
URL:https://services.claremont.edu/event/weekly-graduate-student-coworking-sessions-with-obsas-graduate-fellows/2024-11-29/
LOCATION:OBSA Main House Conference Room\, 139 E 7th street\, Claremont\, California\, 91711
CATEGORIES:OBSA
END:VEVENT
BEGIN:VEVENT
DTSTART;TZID=America/Los_Angeles:20241203T170000
DTEND;TZID=America/Los_Angeles:20241203T200000
DTSTAMP:20260425T204301
CREATED:20241125T210225Z
LAST-MODIFIED:20241125T210637Z
UID:10008786-1733245200-1733256000@services.claremont.edu
SUMMARY:World AIDS Day: Lecture & Screening of Red Reminds Me presented by the Claremont Colleges World AIDS Day Committee
DESCRIPTION:presented by AARC\, Benton Museum\, CLSA\, OBSA\, Pitzer Strive To Thrive and QRC \nThis year’s theme for World AIDS Day/Day With(out) Art\, Red Reminds Me… asks us to think\, feel and recall how queerness\, transness and HIV/AIDS have always influenced and been influenced by world events. \nEvent includes screening and discussion with Jih-Fei Cheng (he/they) Associate Professor and Dept Chair of Feminist\, Gender\, and Sexuality Studies at Scripps College. \n  \n 
URL:https://services.claremont.edu/event/world-aids-day-lecture-screening-of-red-reminds-me-presented-by-the-claremont-colleges-world-aids-day-committee/
LOCATION:BENTON MUSEUM OF ART\, POMONA COLLEGE
CATEGORIES:CLSA,OBSA
END:VEVENT
BEGIN:VEVENT
DTSTART;TZID=America/Los_Angeles:20241204T110000
DTEND;TZID=America/Los_Angeles:20241204T130000
DTSTAMP:20260425T204301
CREATED:20241125T210358Z
LAST-MODIFIED:20241125T210737Z
UID:10008787-1733310000-1733317200@services.claremont.edu
SUMMARY:World AIDS Day: Tabling and Safer Sex Supplies presented by the Claremont Colleges World AIDS Day Committee
DESCRIPTION:Available outside the Hoch\, Harvey Mudd College \n  \n 
URL:https://services.claremont.edu/event/world-aids-day-tabling-and-safer-sex-supplies-presented-by-the-claremont-colleges-world-aids-day-committee/
LOCATION:Outside of the Hoch\, HMC\, 385 Platt Boulevard\, Claremont\, CA\, 91711\, United States
CATEGORIES:CLSA,OBSA
END:VEVENT
BEGIN:VEVENT
DTSTART;TZID=America/Los_Angeles:20241205T160000
DTEND;TZID=America/Los_Angeles:20241205T170000
DTSTAMP:20260425T204301
CREATED:20241125T211247Z
LAST-MODIFIED:20241125T211249Z
UID:10008445-1733414400-1733418000@services.claremont.edu
SUMMARY:Drop in Hours with OBSA Fellows Nekyla (KGI) & Abstract (CGU)
DESCRIPTION:
URL:https://services.claremont.edu/event/drop-in-hours-with-obsa-fellows-nekyla-kgi-abstract-cgu-2-2/2024-12-05/
LOCATION:OBSA\, 139 E. 7th st\, Claremont\, CA
CATEGORIES:OBSA
END:VEVENT
BEGIN:VEVENT
DTSTART;TZID=America/Los_Angeles:20241206T220000
DTEND;TZID=America/Los_Angeles:20241207T010000
DTSTAMP:20260425T204301
CREATED:20241204T215701Z
LAST-MODIFIED:20241204T220329Z
UID:10008791-1733522400-1733533200@services.claremont.edu
SUMMARY:OBSA's Study Abroad Going Away
DESCRIPTION:Join OBSA and the GUMBO student group for a going away celebration and social for students leaving campus for study abroad in spring 2025. Say farewell to friends and enjoy refreshments\, music and performances! Open to all 5C students.
URL:https://services.claremont.edu/event/study-break-test/
LOCATION:OBSA Bungalow
CATEGORIES:OBSA
END:VEVENT
BEGIN:VEVENT
DTSTART;TZID=America/Los_Angeles:20241213T180000
DTEND;TZID=America/Los_Angeles:20241213T200000
DTSTAMP:20260425T204301
CREATED:20241023T201047Z
LAST-MODIFIED:20241204T220735Z
UID:10008499-1734112800-1734120000@services.claremont.edu
SUMMARY:OBSA Black Grad 2nd Friday Happy Hour: Movie Night Under the Stars
DESCRIPTION:Enjoy a hosted cocktail bar\, festive snacks and community at OBSA’s holiday themed 2nd Friday social. Open to KGI and CGU students\, as well as 21+ allies and friends\, the movie night is held outdoors with heaters\, and indoor space will host the bar\, snacks and more socializing. RSVP here and help choose a film! \n2nd Fridays resume in February 2025 after winter break.
URL:https://services.claremont.edu/event/2nd-friday-happy-hour/
LOCATION:OBSA Bungalow
CATEGORIES:OBSA
END:VEVENT
BEGIN:VEVENT
DTSTART;TZID=America/Los_Angeles:20250130T180000
DTEND;TZID=America/Los_Angeles:20250130T193000
DTSTAMP:20260425T204301
CREATED:20250115T230724Z
LAST-MODIFIED:20250129T034741Z
UID:10008799-1738260000-1738265400@services.claremont.edu
SUMMARY:Dr. Martin Luther King Jr. Commemoration Keynote: Dreaming as Creative Practice--Gabrielle Civil in conversation with Rosa Evangelina Beltrán
DESCRIPTION:LOCATION UPDATE: Balch Auditorium \nGabrielle Civil in conversation with Rosa Evangelina Beltrán. Gabrielle Civil will read excerpts from her book\, In & Out of Place\, which combines diary entries\, images\, performance texts\, critical commentary\, and more. Public book signing & books for purchase in the lobby. Link to tickets below (FREE for Claremont Colleges students\, faculty & staff). RSVP here \nSponsored by OBSA\, CLSA\, Scripps Presents\, IDCLS\, IDAS and SCORE. \nFree community dinner follows event in the Hampton Room (2nd floor\, Malott Commons) at 7:30pm.
URL:https://services.claremont.edu/event/dr-martin-luther-king-jr-commemoration-keynote/
LOCATION:Balch Auditorium     Scripps College
CATEGORIES:CLSA,OBSA
END:VEVENT
BEGIN:VEVENT
DTSTART;TZID=America/Los_Angeles:20250130T193000
DTEND;TZID=America/Los_Angeles:20250130T203000
DTSTAMP:20260425T204301
CREATED:20250129T035034Z
LAST-MODIFIED:20250129T035034Z
UID:10008837-1738265400-1738269000@services.claremont.edu
SUMMARY:Dr. Martin Luther King\, Jr. Commemoration: Post Keynote Community Dinner
DESCRIPTION:Free community dinner open to all. Following the keynote in Balch Hall\, travel to Malott Commons for dinner in the Hampton Room (2nd floor).
URL:https://services.claremont.edu/event/dr-martin-luther-king-jr-commemoration-post-keynote-community-dinner/
LOCATION:Hampton Room\, Scripps College
CATEGORIES:OBSA
END:VEVENT
BEGIN:VEVENT
DTSTART;TZID=America/Los_Angeles:20250131T120000
DTEND;TZID=America/Los_Angeles:20250131T130000
DTSTAMP:20260425T204301
CREATED:20250115T230834Z
LAST-MODIFIED:20250129T035255Z
UID:10008800-1738324800-1738328400@services.claremont.edu
SUMMARY:Dr. Martin Luther King\, Jr. Commemoration: Student only book signing and lunch with Gabrielle Civil & Rosa Evangelina Beltran
DESCRIPTION:7C students are invited to a lunchtime conversation and book signing with Gabrielle and Rosa\, hosted at CLSA in partnership with OBSA\, IDCLS\, IDAS and SCORE. \nFree signed book for the first 20 students who register and attend! \nRSVP here
URL:https://services.claremont.edu/event/dr-martin-luther-king-jr-commemoration-student-only-book-signing-and-lunch/
LOCATION:Chicano Latino Student Affairs Office\, 757 College Way\, Suite 2100\, Claremont\, CA\, 91711
CATEGORIES:CLSA,OBSA
END:VEVENT
BEGIN:VEVENT
DTSTART;TZID=America/Los_Angeles:20250205T120000
DTEND;TZID=America/Los_Angeles:20250205T130000
DTSTAMP:20260425T204301
CREATED:20241204T224321Z
LAST-MODIFIED:20250129T040538Z
UID:10008794-1738756800-1738760400@services.claremont.edu
SUMMARY:Black History Month@Claremont: OBSA & IDAS Present Centering Blackness--Black Politics & Political Theory with Prof. Mubirumusoke
DESCRIPTION:Professors Mukasa Mubirumusoke (CMC/IDAS) Stephanie Jones (Pitzer/IDAS) and will lead a lively conversation about Black politics and political theory as part of the OBSA/IDAS Centering Blackness series. Lunch provided. This event is part of the Black History Month celebration at The Claremont Colleges. Location: OBSA Bungalow
URL:https://services.claremont.edu/event/black-history-monthclaremont-obsa-idas-present-centering-blackness-black-politics-political-theory-with-prof-mubirumusoke/
LOCATION:OBSA Bungalow
CATEGORIES:OBSA
END:VEVENT
BEGIN:VEVENT
DTSTART;TZID=America/Los_Angeles:20250206T190000
DTEND;TZID=America/Los_Angeles:20250206T200000
DTSTAMP:20260425T204301
CREATED:20241125T205237Z
LAST-MODIFIED:20250129T035545Z
UID:10008785-1738868400-1738872000@services.claremont.edu
SUMMARY:Black History Month @Claremont: Keynote with Erin Reddick\, Founder\, ChatBlackGPT presented by OBSA\, Scripps Presents and Scripps SCORE
DESCRIPTION:OBSA’s Black History Month Keynote : Erin Reddick\, Founder of ChatBlackGPT \npresented by OBSA and Scripps Presents. Moderated by Nick Daily\, Scripps SCORE Interim Director \nThis event will require a free ticket and ID required for entry\, for Claremont Colleges community members. Tickets now available \nThe innovative creator of culturally-inclusive AI software ChatBlackGPT\, Erin Reddick provides expert insights into the ever-changing landscape of AI and the importance o inclusive technology development. \nErin Reddick has forged a vital path in the technology industry. With a career encompassing significant roles at major tech companies including Meta\, Microsoft\, and AWS\, her most impactful contribution to the field is the creation of ChatBlackGPT\, an AI software providing perspectives from the Black and African American communities. This innovation reflects her commitment to inclusivity and cultural sensitivity in technology. \nErin’s journey in tech\, marked by her identity as a Black woman\, led her to become a certified ChatGPT Expert and Prompt Engineer with the goal of addressing the racial biases she found present in AI. Her dedication culminated in the development of ChatBlackGPT\, a platform aiming to offer a safe\, inclusive space for exploring AI\, specifically tailored to the Black American experience. ChatBlackGPT\, under Reddick’s guidance\, ensures a response style that is culturally aware and respectful. \nErin’s work is pivotal in diversifying AI\, promoting technology that is equitable and representative of diverse experiences. Her efforts are a testament to the importance of inclusive technology development\, inspiring further advancements in the field.
URL:https://services.claremont.edu/event/black-history-month-keynote-eric-reddick-founder-chatblackgpt-presented-by-obsa-scripps-presents-and-scripps-score/
LOCATION:Balch Auditorium     Scripps College
CATEGORIES:OBSA
END:VEVENT
BEGIN:VEVENT
DTSTART;TZID=America/Los_Angeles:20250213T173000
DTEND;TZID=America/Los_Angeles:20250213T200000
DTSTAMP:20260425T204301
CREATED:20250212T201017Z
LAST-MODIFIED:20250212T201017Z
UID:10008844-1739467800-1739476800@services.claremont.edu
SUMMARY:Black History Month@Claremont: CMC BSA & Pomona BSU present Blaremont BET Awards
DESCRIPTION:Organized by Black student-led organizations at Claremont McKenna and Pomona Colleges\, this is a student organized event open to 5C (undergraduate) students who identify as Black/having African descent. To attend this event\, an RSVP is required. \nEnjoy a glamorous night of excellent food\, fun performances\, and amazing vibes. It is open to the entire 5C Black community so make sure to bring your friends! To ensure you have guaranteed seating\, you MUST RSVP through the google form. The form also includes the BET award nomination questions where you can vote and submit your responses. 
URL:https://services.claremont.edu/event/black-history-monthclaremont-cmc-bsa-pomona-bsu-present-blaremont-bet-awards/
LOCATION:The Athenaeum\, Claremont McKenna College
CATEGORIES:OBSA
END:VEVENT
BEGIN:VEVENT
DTSTART;TZID=America/Los_Angeles:20250214T180000
DTEND;TZID=America/Los_Angeles:20250214T193000
DTSTAMP:20260425T204301
CREATED:20250115T225618Z
LAST-MODIFIED:20250115T225644Z
UID:10008798-1739556000-1739561400@services.claremont.edu
SUMMARY:Black History Month@Claremont: Second Friday Black Graduate Mixer: Celebrate Self Love & Self Care
DESCRIPTION:Join OBSA’s Black graduate fellows for the second Friday mixer with a self care/self love theme for Black History Month. Enjoy chair massages\, self care giveaways\, snacks and themed cocktails.  Open to CGU and KGI students\, and 21+ friends and allies.
URL:https://services.claremont.edu/event/black-history-monthclaremont-second-friday-black-graduate-mixer-self-care-relaxation-session/
LOCATION:CA
CATEGORIES:OBSA
END:VEVENT
BEGIN:VEVENT
DTSTART;TZID=America/Los_Angeles:20250217T160000
DTEND;TZID=America/Los_Angeles:20250217T170000
DTSTAMP:20260425T204301
CREATED:20250212T174721Z
LAST-MODIFIED:20250212T174744Z
UID:10008842-1739808000-1739811600@services.claremont.edu
SUMMARY:Black History Month@Claremont: Embracing Authenticity Panel presented by CGU's Worker Wellbeing Lab (Virtual Event)
DESCRIPTION:THE WORKER WELLBEING LAB’S AMPLIFYING VOICES BLACK HISTORY MONTH EVENT: EMBRACING AUTHENTICITY PANEL VIRTUAL EVENT \nOur Afro-Diasporic panelists will recount their experiences with embracing and protecting their authentic selves in organizations and the impact of the current revocation of affirmative action and DEI practices in their lives. Please join us for an enlightening panelist discussion on the unique experiences of Afro-Diasporic communities. Panelists: Dakotah Brown (Project Coordinator at the San Antonio African American Community Archive and Museum)\, Abdullah Roberts (Dell Technologies Logistics Project Manager) and Lydia Middleton (Dean\, Office of Black Student Affairs).  \nThis is a virtual event. Click here to join Zoom Room.
URL:https://services.claremont.edu/event/black-history-monthclaremont-embracing-authenticity-panel-presented-by-cgus-worker-wellbeing-lab-virtual-event/
LOCATION:CA
CATEGORIES:OBSA
END:VEVENT
END:VCALENDAR