BEGIN:VCALENDAR
VERSION:2.0
PRODID:-//The Claremont Colleges Services - ECPv6.15.17.1//NONSGML v1.0//EN
CALSCALE:GREGORIAN
METHOD:PUBLISH
X-ORIGINAL-URL:https://services.claremont.edu
X-WR-CALDESC:Events for The Claremont Colleges Services
REFRESH-INTERVAL;VALUE=DURATION:PT1H
X-Robots-Tag:noindex
X-PUBLISHED-TTL:PT1H
BEGIN:VTIMEZONE
TZID:America/Los_Angeles
BEGIN:DAYLIGHT
TZOFFSETFROM:-0800
TZOFFSETTO:-0700
TZNAME:PDT
DTSTART:20250309T100000
END:DAYLIGHT
BEGIN:STANDARD
TZOFFSETFROM:-0700
TZOFFSETTO:-0800
TZNAME:PST
DTSTART:20251102T090000
END:STANDARD
BEGIN:DAYLIGHT
TZOFFSETFROM:-0800
TZOFFSETTO:-0700
TZNAME:PDT
DTSTART:20260308T100000
END:DAYLIGHT
BEGIN:STANDARD
TZOFFSETFROM:-0700
TZOFFSETTO:-0800
TZNAME:PST
DTSTART:20261101T090000
END:STANDARD
BEGIN:DAYLIGHT
TZOFFSETFROM:-0800
TZOFFSETTO:-0700
TZNAME:PDT
DTSTART:20270314T100000
END:DAYLIGHT
BEGIN:STANDARD
TZOFFSETFROM:-0700
TZOFFSETTO:-0800
TZNAME:PST
DTSTART:20271107T090000
END:STANDARD
END:VTIMEZONE
BEGIN:VEVENT
DTSTART;TZID=America/Los_Angeles:20260207T083000
DTEND;TZID=America/Los_Angeles:20260207T150000
DTSTAMP:20260423T120326
CREATED:20260121T210426Z
LAST-MODIFIED:20260121T213836Z
UID:10009577-1770453000-1770476400@services.claremont.edu
SUMMARY:BLACK HISTORY MONTH EVENT 4th Annual Black Youth Conference
DESCRIPTION:Register/FMI: pomona.edu/byc \nAnnual conference for local area youth hosted by Pomona BSU\, Draper Center\, OBSA and the Quantitative Skills Center
URL:https://services.claremont.edu/event/black-history-month-event-4th-annual-black-youth-conference/
CATEGORIES:OBSA
END:VEVENT
BEGIN:VEVENT
DTSTART;TZID=America/Los_Angeles:20260209T110000
DTEND;TZID=America/Los_Angeles:20260209T150000
DTSTAMP:20260423T120326
CREATED:20260204T211804Z
LAST-MODIFIED:20260204T211804Z
UID:10009668-1770634800-1770649200@services.claremont.edu
SUMMARY:Valentine's Treats at OBSA Feb 9-13
DESCRIPTION:All are welcome to grab a Valentine’s treat daily from 11am-3pm from the OBSA main office! \nWe think you’re special so drop by for your surprise! \n 
URL:https://services.claremont.edu/event/valentines-treats-at-obsa-feb-9-13/2026-02-09/
LOCATION:OBSA\, 139 E. 7th st\, Claremont\, CA
CATEGORIES:OBSA
END:VEVENT
BEGIN:VEVENT
DTSTART;TZID=America/Los_Angeles:20260210T110000
DTEND;TZID=America/Los_Angeles:20260210T150000
DTSTAMP:20260423T120326
CREATED:20260204T211804Z
LAST-MODIFIED:20260204T211804Z
UID:10009669-1770721200-1770735600@services.claremont.edu
SUMMARY:Valentine's Treats at OBSA Feb 9-13
DESCRIPTION:All are welcome to grab a Valentine’s treat daily from 11am-3pm from the OBSA main office! \nWe think you’re special so drop by for your surprise! \n 
URL:https://services.claremont.edu/event/valentines-treats-at-obsa-feb-9-13/2026-02-10/
LOCATION:OBSA\, 139 E. 7th st\, Claremont\, CA
CATEGORIES:OBSA
END:VEVENT
BEGIN:VEVENT
DTSTART;TZID=America/Los_Angeles:20260210T130000
DTEND;TZID=America/Los_Angeles:20260210T150000
DTSTAMP:20260423T120326
CREATED:20260121T171933Z
LAST-MODIFIED:20260220T021550Z
UID:10009512-1770728400-1770735600@services.claremont.edu
SUMMARY:Let's Talk Tuesdays with Dr. Adrienne Hilliard
DESCRIPTION:Drop in for mental wellness check ins with Senior Staff Phychologist Dr. Adrienne Hilliard (MCAPS)! Session available Tuesdays Jan 27-May 4\, 2026 and will occur in the OBSA conference room \nRSVP in person or over zoom at https://calendly.com/adrienne-hilliard
URL:https://services.claremont.edu/event/lets-talk-tuesdays-with-dr-adrienne-hilliard/2026-02-10/
LOCATION:OBSA Conference Room
CATEGORIES:OBSA
END:VEVENT
BEGIN:VEVENT
DTSTART;TZID=America/Los_Angeles:20260210T163000
DTEND;TZID=America/Los_Angeles:20260210T193000
DTSTAMP:20260423T120326
CREATED:20260121T210629Z
LAST-MODIFIED:20260121T210708Z
UID:10009578-1770741000-1770751800@services.claremont.edu
SUMMARY:BLACK HISTORY MONTH EVENT OBSA and IDAS Claremont Professionals Mixer
DESCRIPTION:Mixer for 21+ community members (faculty\, staff\, alumni and graduate students) \nInformation and invitation provided by request to obsa@claremont.edu. \nEvent will occur off campus. \nSponsored by OBSA and IDAS
URL:https://services.claremont.edu/event/black-history-month-event-obsa-and-idas-claremont-professionals-mixer/
CATEGORIES:OBSA
END:VEVENT
BEGIN:VEVENT
DTSTART;TZID=America/Los_Angeles:20260211T110000
DTEND;TZID=America/Los_Angeles:20260211T150000
DTSTAMP:20260423T120326
CREATED:20260204T211804Z
LAST-MODIFIED:20260204T211804Z
UID:10009670-1770807600-1770822000@services.claremont.edu
SUMMARY:Valentine's Treats at OBSA Feb 9-13
DESCRIPTION:All are welcome to grab a Valentine’s treat daily from 11am-3pm from the OBSA main office! \nWe think you’re special so drop by for your surprise! \n 
URL:https://services.claremont.edu/event/valentines-treats-at-obsa-feb-9-13/2026-02-11/
LOCATION:OBSA\, 139 E. 7th st\, Claremont\, CA
CATEGORIES:OBSA
END:VEVENT
BEGIN:VEVENT
DTSTART;TZID=America/Los_Angeles:20260211T190000
DTEND;TZID=America/Los_Angeles:20260211T210000
DTSTAMP:20260423T120326
CREATED:20260203T225653Z
LAST-MODIFIED:20260219T215119Z
UID:10009603-1770836400-1770843600@services.claremont.edu
SUMMARY:Cozy Office Hours: Wednesdays with the OBSA Fellows
DESCRIPTION:drop in for… \n♡ tea \n♡ coffee \n♡ crafts \n♡ co-working \n& fun conversation with OBSA Fellows and Scripps students Ahlam and Ryann! \nWednesday evenings\, 7-9pm at SCORE (located at Scripps\, across from the Routt-Frankel Hall \nOpen to all!
URL:https://services.claremont.edu/event/cozy-office-hours-wednesdays-with-the-obsa-fellows/2026-02-11/
LOCATION:Scripps SCORE\, 1111 Amherst Ave.\, Claremont\, CA\, 91711
CATEGORIES:OBSA
END:VEVENT
BEGIN:VEVENT
DTSTART;TZID=America/Los_Angeles:20260212T110000
DTEND;TZID=America/Los_Angeles:20260212T150000
DTSTAMP:20260423T120326
CREATED:20260204T211804Z
LAST-MODIFIED:20260204T211804Z
UID:10009671-1770894000-1770908400@services.claremont.edu
SUMMARY:Valentine's Treats at OBSA Feb 9-13
DESCRIPTION:All are welcome to grab a Valentine’s treat daily from 11am-3pm from the OBSA main office! \nWe think you’re special so drop by for your surprise! \n 
URL:https://services.claremont.edu/event/valentines-treats-at-obsa-feb-9-13/2026-02-12/
LOCATION:OBSA\, 139 E. 7th st\, Claremont\, CA
CATEGORIES:OBSA
END:VEVENT
BEGIN:VEVENT
DTSTART;TZID=America/Los_Angeles:20260212T150000
DTEND;TZID=America/Los_Angeles:20260212T170000
DTSTAMP:20260423T120326
CREATED:20260203T204121Z
LAST-MODIFIED:20260203T204121Z
UID:10009595-1770908400-1770915600@services.claremont.edu
SUMMARY:BLACK HISTORY MONTH EVENT: Celebrate Black Love Panel with Dr. Fely Catan
DESCRIPTION:Panel conversation to celebrate and honor love in all forms through diverse voices and lived experienced. \nFacilitated by Dr. Fely Catan (Pitzer) \nFeb 12\, 3-5pm @ Sanborn 101 –campus residence\, building access will be available for all attendees! \nSnacks and drinks provided
URL:https://services.claremont.edu/event/black-history-month-event-celebrate-black-love-panel-with-dr-fely-catan/
CATEGORIES:OBSA
END:VEVENT
BEGIN:VEVENT
DTSTART;TZID=America/Los_Angeles:20260213T110000
DTEND;TZID=America/Los_Angeles:20260213T150000
DTSTAMP:20260423T120326
CREATED:20260204T211804Z
LAST-MODIFIED:20260204T211804Z
UID:10009672-1770980400-1770994800@services.claremont.edu
SUMMARY:Valentine's Treats at OBSA Feb 9-13
DESCRIPTION:All are welcome to grab a Valentine’s treat daily from 11am-3pm from the OBSA main office! \nWe think you’re special so drop by for your surprise! \n 
URL:https://services.claremont.edu/event/valentines-treats-at-obsa-feb-9-13/2026-02-13/
LOCATION:OBSA\, 139 E. 7th st\, Claremont\, CA
CATEGORIES:OBSA
END:VEVENT
BEGIN:VEVENT
DTSTART;TZID=America/Los_Angeles:20260214T120000
DTEND;TZID=America/Los_Angeles:20260214T170000
DTSTAMP:20260423T120326
CREATED:20260203T224426Z
LAST-MODIFIED:20260203T224426Z
UID:10009598-1771070400-1771088400@services.claremont.edu
SUMMARY:BLACK HISTORY MONTH EVENT Pitzer BSU presents Black Market Flea @ Pitzer Mounds
DESCRIPTION:Pitzer Black Market Flea \nNoon-5pM \n@PITZER COLLEGE MOUNDS \nfeaturing 5C student & local vendors. Family friendly\, free and open to the public! Featuring food\, music\, vendors & more.
URL:https://services.claremont.edu/event/black-history-month-event-pitzer-bsu-presents-black-market-flea-pitzer-mounds/
CATEGORIES:OBSA
END:VEVENT
BEGIN:VEVENT
DTSTART;TZID=America/Los_Angeles:20260217T130000
DTEND;TZID=America/Los_Angeles:20260217T150000
DTSTAMP:20260423T120326
CREATED:20260121T171933Z
LAST-MODIFIED:20260220T021550Z
UID:10009513-1771333200-1771340400@services.claremont.edu
SUMMARY:Let's Talk Tuesdays with Dr. Adrienne Hilliard
DESCRIPTION:Drop in for mental wellness check ins with Senior Staff Phychologist Dr. Adrienne Hilliard (MCAPS)! Session available Tuesdays Jan 27-May 4\, 2026 and will occur in the OBSA conference room \nRSVP in person or over zoom at https://calendly.com/adrienne-hilliard
URL:https://services.claremont.edu/event/lets-talk-tuesdays-with-dr-adrienne-hilliard/2026-02-17/
LOCATION:OBSA Conference Room
CATEGORIES:OBSA
END:VEVENT
BEGIN:VEVENT
DTSTART;TZID=America/Los_Angeles:20260217T190000
DTEND;TZID=America/Los_Angeles:20260217T200000
DTSTAMP:20260423T120326
CREATED:20260121T211025Z
LAST-MODIFIED:20260121T211025Z
UID:10009579-1771354800-1771358400@services.claremont.edu
SUMMARY:BLACK HISTORY MONTH EVENT the 38th Sojourner Truth Lecture
DESCRIPTION:Featuring celebrated activist\, filmmaker\, director and author Charlene Carruthers \nSponsored by IDAS
URL:https://services.claremont.edu/event/black-history-month-event-the-38th-sojourner-truth-lecture/
LOCATION:HMC Galileo
CATEGORIES:OBSA
END:VEVENT
BEGIN:VEVENT
DTSTART;TZID=America/Los_Angeles:20260218T190000
DTEND;TZID=America/Los_Angeles:20260218T210000
DTSTAMP:20260423T120326
CREATED:20260203T225653Z
LAST-MODIFIED:20260219T215119Z
UID:10009604-1771441200-1771448400@services.claremont.edu
SUMMARY:Cozy Office Hours: Wednesdays with the OBSA Fellows
DESCRIPTION:drop in for… \n♡ tea \n♡ coffee \n♡ crafts \n♡ co-working \n& fun conversation with OBSA Fellows and Scripps students Ahlam and Ryann! \nWednesday evenings\, 7-9pm at SCORE (located at Scripps\, across from the Routt-Frankel Hall \nOpen to all!
URL:https://services.claremont.edu/event/cozy-office-hours-wednesdays-with-the-obsa-fellows/2026-02-18/
LOCATION:Scripps SCORE\, 1111 Amherst Ave.\, Claremont\, CA\, 91711
CATEGORIES:OBSA
END:VEVENT
BEGIN:VEVENT
DTSTART;TZID=America/Los_Angeles:20260219T110000
DTEND;TZID=America/Los_Angeles:20260219T130000
DTSTAMP:20260423T120326
CREATED:20260204T181922Z
LAST-MODIFIED:20260204T181922Z
UID:10009667-1771498800-1771506000@services.claremont.edu
SUMMARY:BLACK HISTORY MONTH EVENT Pomona BSU 5C faculty/student lunch
DESCRIPTION:Pomona BSU is hosting a student faculty get together! This is an opportunity for Black students across the 5C’s to meet and build relationships with Black professionals as well as be connected to a wider community here on campus. This event will be held on February 19th in the Hart Room 201 from 11am- 1pm. There will be games\, pizza\, and refreshments provided. \nIf you are interested\, please RSVP with this link so that we have a headcount of those able to attend. If you would like future events such as this one or are willing to have students reach out to just connect with\, you can also indicate that on the form. Any questions can be directed to pgph2022@mymail.pomona.edu.
URL:https://services.claremont.edu/event/black-history-month-event-pomona-bsu-5c-faculty-student-lunch/
LOCATION:Pomona SCC Hart 201
CATEGORIES:OBSA
END:VEVENT
BEGIN:VEVENT
DTSTART;TZID=America/Los_Angeles:20260220T153000
DTEND;TZID=America/Los_Angeles:20260220T170000
DTSTAMP:20260423T120326
CREATED:20260203T224654Z
LAST-MODIFIED:20260203T224654Z
UID:10009599-1771601400-1771606800@services.claremont.edu
SUMMARY:BLACK HISTORY MONTH EVENT: Sip Snack & Paint with OBSA & MCAPS
DESCRIPTION:3:30PM -5:30pm @ HIVE STUDIO 2 \nPaint with a professional artist from Purple Easel. free boba & snacks! \nFree and open to all \nSpaces limited–RSVP at linktr.ee/claremont
URL:https://services.claremont.edu/event/black-history-month-event-sip-snack-paint-with-obsa-mcaps/
LOCATION:HIVE Studio 2
CATEGORIES:MCAPS,OBSA
END:VEVENT
BEGIN:VEVENT
DTSTART;TZID=America/Los_Angeles:20260223T153000
DTEND;TZID=America/Los_Angeles:20260223T163000
DTSTAMP:20260423T120326
CREATED:20260203T221832Z
LAST-MODIFIED:20260203T224108Z
UID:10009597-1771860600-1771864200@services.claremont.edu
SUMMARY:BLACK HISTORY MONTH EVENT: What were Federal "Redlining" Maps For? Guest Lecture with Dr. Scott Markley
DESCRIPTION:The Pitzer course Organizational Studies 180 will have a guest speaker – Scott Markley\, PhD\, Research Director at National Zoning Atlas – on the HOLC “redlining” maps of the 1930s. This guest lecture is open to the consortial community and will be held at the Broad Performance Space\, Pitzer College. \nTalk Description: An expanding body of research has sought to connect the Home Owners’ Loan Corporation’s (HOLC) “redlining” maps from the 1930s to a wide array of present-day social injustices in the United States. The assertion has been that these federally produced maps helped entrench emerging co-geographies of racial segregation and value that have continued to reproduce racial-spatial inequities through time. However\, the historical record is more complicated. In this talk\, Markley reevaluates what these maps and their accompanying field notes can (and cannot) tell us about the inter-generational transmission of racial inequality. Markley proposes that HOLC’s “redlining” documents should not be read as literal prescriptions about where the agency believed real estate investments should and should not be steered but as part of a larger\, state-backed spatial data science initiative that was about imposing order and predictability onto the housing landscape. \nMon Feb 23\, 3:30pm-4:30pm \nBroad Center Performance Space. Light refreshments served. \nFMI Contact: marilyn_grell-brisk@pitzer.edu
URL:https://services.claremont.edu/event/black-history-month-event-what-were-federal-redlining-maps-for-guest-lecture-with-dr-scott-markley/
CATEGORIES:OBSA
END:VEVENT
BEGIN:VEVENT
DTSTART;TZID=America/Los_Angeles:20260224T130000
DTEND;TZID=America/Los_Angeles:20260224T150000
DTSTAMP:20260423T120326
CREATED:20260121T171933Z
LAST-MODIFIED:20260220T021550Z
UID:10009514-1771938000-1771945200@services.claremont.edu
SUMMARY:Let's Talk Tuesdays with Dr. Adrienne Hilliard
DESCRIPTION:Drop in for mental wellness check ins with Senior Staff Phychologist Dr. Adrienne Hilliard (MCAPS)! Session available Tuesdays Jan 27-May 4\, 2026 and will occur in the OBSA conference room \nRSVP in person or over zoom at https://calendly.com/adrienne-hilliard
URL:https://services.claremont.edu/event/lets-talk-tuesdays-with-dr-adrienne-hilliard/2026-02-24/
LOCATION:OBSA Conference Room
CATEGORIES:OBSA
END:VEVENT
BEGIN:VEVENT
DTSTART;TZID=America/Los_Angeles:20260225T190000
DTEND;TZID=America/Los_Angeles:20260225T210000
DTSTAMP:20260423T120326
CREATED:20260203T225653Z
LAST-MODIFIED:20260219T215119Z
UID:10009605-1772046000-1772053200@services.claremont.edu
SUMMARY:Cozy Office Hours: Wednesdays with the OBSA Fellows
DESCRIPTION:drop in for… \n♡ tea \n♡ coffee \n♡ crafts \n♡ co-working \n& fun conversation with OBSA Fellows and Scripps students Ahlam and Ryann! \nWednesday evenings\, 7-9pm at SCORE (located at Scripps\, across from the Routt-Frankel Hall \nOpen to all!
URL:https://services.claremont.edu/event/cozy-office-hours-wednesdays-with-the-obsa-fellows/2026-02-25/
LOCATION:Scripps SCORE\, 1111 Amherst Ave.\, Claremont\, CA\, 91711
CATEGORIES:OBSA
END:VEVENT
BEGIN:VEVENT
DTSTART;TZID=America/Los_Angeles:20260226T120000
DTEND;TZID=America/Los_Angeles:20260226T130000
DTSTAMP:20260423T120326
CREATED:20260203T170806Z
LAST-MODIFIED:20260203T180708Z
UID:10009594-1772107200-1772110800@services.claremont.edu
SUMMARY:OBSA LUNCH & LEARN FINANCIAL LITERACY SERIES: Career Transitions with CGU Alum Clark Rucker (noon-1pm @ CGU Drucker)
DESCRIPTION:OBSA’s Spring Lunch & Learn Financial Literacy series returns! \nJoin us for a conversation with a CGU Alum Clark Rucker about career transitions post graduation. \nOpen to all\, great for current KGI and CGU students! \nFree lunch! \nRSVP for this session (as well as the March sessions) at linktr.ee/obsaclaremont
URL:https://services.claremont.edu/event/obsa-lunch-learn-financial-literacy-series-career-transitions-with-cgu-alum-clark-rucker-noon-1pm-cgu-drucker/
LOCATION:CGU Drucker
CATEGORIES:OBSA
END:VEVENT
BEGIN:VEVENT
DTSTART;TZID=America/Los_Angeles:20260228T140000
DTEND;TZID=America/Los_Angeles:20260228T190000
DTSTAMP:20260423T120326
CREATED:20260203T224946Z
LAST-MODIFIED:20260203T224946Z
UID:10009600-1772287200-1772305200@services.claremont.edu
SUMMARY:BLACK HISTORY MONTH EVENT: OBSA trip to Los Angeles Black Market Flea
DESCRIPTION:Beehive Studios in Los Angeles. \nOBSA Fellows are hosting a trip to Black Market Flea Los Angeles on Feb 28 from 2pm-7PM \nregister for a spot on the bus for free ticket reimbursement. TICKETS ON SALE NOW linktr.ee/obsaclaremont. (Attendees should buy their own ticket through the Black Market Flea site. OBSA will reimburse ticketholders who show proof of purchase AND sign up to ride the bus. \nSPACES LIMITED! BUS DEPARTS OBSA @2pm & returns BY 8pm.  \n5C STUDENTS ONLY.
URL:https://services.claremont.edu/event/black-history-month-event-obsa-trip-to-los-angeles-black-market-flea/
CATEGORIES:OBSA
END:VEVENT
BEGIN:VEVENT
DTSTART;TZID=America/Los_Angeles:20260228T190000
DTEND;TZID=America/Los_Angeles:20260228T230000
DTSTAMP:20260423T120326
CREATED:20260203T225244Z
LAST-MODIFIED:20260203T225245Z
UID:10009601-1772305200-1772319600@services.claremont.edu
SUMMARY:BLACK HISTORY MONTH EVENT: Soundsex Soundscapes student DJ experience
DESCRIPTION:DJ DIABOLIXX & DJ RATIONAL AGENT PRESENT SOUNDSEX SOUNDSCAPES \n7pm-11pm @ OBSA Bungalow \nAn intimate\, genre-bending audiovisual experience inviting queer & Black community to connectivity and movement \nRefreshments provided! \ncosponsored by OBSA
URL:https://services.claremont.edu/event/black-history-month-event-soundsex-soundscapes-student-dj-experience/
CATEGORIES:OBSA
END:VEVENT
BEGIN:VEVENT
DTSTART;TZID=America/Los_Angeles:20260303T130000
DTEND;TZID=America/Los_Angeles:20260303T150000
DTSTAMP:20260423T120326
CREATED:20260121T171933Z
LAST-MODIFIED:20260220T021550Z
UID:10009515-1772542800-1772550000@services.claremont.edu
SUMMARY:Let's Talk Tuesdays with Dr. Adrienne Hilliard
DESCRIPTION:Drop in for mental wellness check ins with Senior Staff Phychologist Dr. Adrienne Hilliard (MCAPS)! Session available Tuesdays Jan 27-May 4\, 2026 and will occur in the OBSA conference room \nRSVP in person or over zoom at https://calendly.com/adrienne-hilliard
URL:https://services.claremont.edu/event/lets-talk-tuesdays-with-dr-adrienne-hilliard/2026-03-03/
LOCATION:OBSA Conference Room
CATEGORIES:OBSA
END:VEVENT
BEGIN:VEVENT
DTSTART;TZID=America/Los_Angeles:20260304T190000
DTEND;TZID=America/Los_Angeles:20260304T210000
DTSTAMP:20260423T120326
CREATED:20260203T225653Z
LAST-MODIFIED:20260219T215119Z
UID:10009606-1772650800-1772658000@services.claremont.edu
SUMMARY:Cozy Office Hours: Wednesdays with the OBSA Fellows
DESCRIPTION:drop in for… \n♡ tea \n♡ coffee \n♡ crafts \n♡ co-working \n& fun conversation with OBSA Fellows and Scripps students Ahlam and Ryann! \nWednesday evenings\, 7-9pm at SCORE (located at Scripps\, across from the Routt-Frankel Hall \nOpen to all!
URL:https://services.claremont.edu/event/cozy-office-hours-wednesdays-with-the-obsa-fellows/2026-03-04/
LOCATION:Scripps SCORE\, 1111 Amherst Ave.\, Claremont\, CA\, 91711
CATEGORIES:OBSA
END:VEVENT
BEGIN:VEVENT
DTSTART;TZID=America/Los_Angeles:20260310T130000
DTEND;TZID=America/Los_Angeles:20260310T150000
DTSTAMP:20260423T120326
CREATED:20260121T171933Z
LAST-MODIFIED:20260220T021550Z
UID:10009516-1773147600-1773154800@services.claremont.edu
SUMMARY:Let's Talk Tuesdays with Dr. Adrienne Hilliard
DESCRIPTION:Drop in for mental wellness check ins with Senior Staff Phychologist Dr. Adrienne Hilliard (MCAPS)! Session available Tuesdays Jan 27-May 4\, 2026 and will occur in the OBSA conference room \nRSVP in person or over zoom at https://calendly.com/adrienne-hilliard
URL:https://services.claremont.edu/event/lets-talk-tuesdays-with-dr-adrienne-hilliard/2026-03-10/
LOCATION:OBSA Conference Room
CATEGORIES:OBSA
END:VEVENT
BEGIN:VEVENT
DTSTART;TZID=America/Los_Angeles:20260311T120000
DTEND;TZID=America/Los_Angeles:20260311T130000
DTSTAMP:20260423T120326
CREATED:20260212T184652Z
LAST-MODIFIED:20260311T164419Z
UID:10009694-1773230400-1773234000@services.claremont.edu
SUMMARY:OBSA LUNCH & LEARN FINANCIAL LITERACY SERIES: Managing your Credit with Jonathan Fitzhugh\, CPA (noon-1pm @ OBSA)
DESCRIPTION:OBSA’s Spring Lunch & Learn Financial Literacy series returns!\n\n\n\n\n\nJoin us for a conversation with Jonathan Fitzhugh\, Pomona Controller & CPA to explore using your resources to support your financial wellbeing. \nOpen to all\, great for undergraduate students! \nFree lunch \nRSVP for this session at linktr.ee/obsaclaremont
URL:https://services.claremont.edu/event/obsa-lunch-learn-financial-literacy-series-managing-your-credit-with-jonathan-fitzhugh-cpa-noon-1pm-obsa/
LOCATION:OBSA\, 139 E. 7th st\, Claremont\, CA
CATEGORIES:OBSA
END:VEVENT
BEGIN:VEVENT
DTSTART;TZID=America/Los_Angeles:20260311T190000
DTEND;TZID=America/Los_Angeles:20260311T210000
DTSTAMP:20260423T120326
CREATED:20260203T225653Z
LAST-MODIFIED:20260219T215119Z
UID:10009607-1773255600-1773262800@services.claremont.edu
SUMMARY:Cozy Office Hours: Wednesdays with the OBSA Fellows
DESCRIPTION:drop in for… \n♡ tea \n♡ coffee \n♡ crafts \n♡ co-working \n& fun conversation with OBSA Fellows and Scripps students Ahlam and Ryann! \nWednesday evenings\, 7-9pm at SCORE (located at Scripps\, across from the Routt-Frankel Hall \nOpen to all!
URL:https://services.claremont.edu/event/cozy-office-hours-wednesdays-with-the-obsa-fellows/2026-03-11/
LOCATION:Scripps SCORE\, 1111 Amherst Ave.\, Claremont\, CA\, 91711
CATEGORIES:OBSA
END:VEVENT
BEGIN:VEVENT
DTSTART;TZID=America/Los_Angeles:20260324T120000
DTEND;TZID=America/Los_Angeles:20260324T130000
DTSTAMP:20260423T120326
CREATED:20260212T184046Z
LAST-MODIFIED:20260311T164632Z
UID:10009693-1774353600-1774357200@services.claremont.edu
SUMMARY:OBSA LUNCH & LEARN FINANCIAL LITERACY SERIES: Managing your Credit with Professor David Germany (noon-1pm @ OBSA)
DESCRIPTION:OBSA’s Spring Lunch & Learn Financial Literacy series returns!\n\n\n\n\nJoin us for a conversation with Professor David Germany exploring tips to manage your credit as a student. \nOpen to all\, great for undergraduate students! \nFree lunch \nRSVP for this session at linktr.ee/obsaclaremont
URL:https://services.claremont.edu/event/obsa-lunch-learn-financial-literacy-series-managing-your-credit-with-professor-david-germany-noon-1pm-obsa/
LOCATION:OBSA Bungalow
CATEGORIES:OBSA
END:VEVENT
BEGIN:VEVENT
DTSTART;TZID=America/Los_Angeles:20260324T130000
DTEND;TZID=America/Los_Angeles:20260324T150000
DTSTAMP:20260423T120326
CREATED:20260121T171933Z
LAST-MODIFIED:20260220T021550Z
UID:10009517-1774357200-1774364400@services.claremont.edu
SUMMARY:Let's Talk Tuesdays with Dr. Adrienne Hilliard
DESCRIPTION:Drop in for mental wellness check ins with Senior Staff Phychologist Dr. Adrienne Hilliard (MCAPS)! Session available Tuesdays Jan 27-May 4\, 2026 and will occur in the OBSA conference room \nRSVP in person or over zoom at https://calendly.com/adrienne-hilliard
URL:https://services.claremont.edu/event/lets-talk-tuesdays-with-dr-adrienne-hilliard/2026-03-24/
LOCATION:OBSA Conference Room
CATEGORIES:OBSA
END:VEVENT
BEGIN:VEVENT
DTSTART;TZID=America/Los_Angeles:20260325T190000
DTEND;TZID=America/Los_Angeles:20260325T210000
DTSTAMP:20260423T120326
CREATED:20260203T225653Z
LAST-MODIFIED:20260219T215119Z
UID:10009608-1774465200-1774472400@services.claremont.edu
SUMMARY:Cozy Office Hours: Wednesdays with the OBSA Fellows
DESCRIPTION:drop in for… \n♡ tea \n♡ coffee \n♡ crafts \n♡ co-working \n& fun conversation with OBSA Fellows and Scripps students Ahlam and Ryann! \nWednesday evenings\, 7-9pm at SCORE (located at Scripps\, across from the Routt-Frankel Hall \nOpen to all!
URL:https://services.claremont.edu/event/cozy-office-hours-wednesdays-with-the-obsa-fellows/2026-03-25/
LOCATION:Scripps SCORE\, 1111 Amherst Ave.\, Claremont\, CA\, 91711
CATEGORIES:OBSA
END:VEVENT
END:VCALENDAR