BEGIN:VCALENDAR
VERSION:2.0
PRODID:-//The Claremont Colleges Services - ECPv6.15.17.1//NONSGML v1.0//EN
CALSCALE:GREGORIAN
METHOD:PUBLISH
X-WR-CALNAME:The Claremont Colleges Services
X-ORIGINAL-URL:https://services.claremont.edu
X-WR-CALDESC:Events for The Claremont Colleges Services
REFRESH-INTERVAL;VALUE=DURATION:PT1H
X-Robots-Tag:noindex
X-PUBLISHED-TTL:PT1H
BEGIN:VTIMEZONE
TZID:America/Los_Angeles
BEGIN:DAYLIGHT
TZOFFSETFROM:-0800
TZOFFSETTO:-0700
TZNAME:PDT
DTSTART:20250309T100000
END:DAYLIGHT
BEGIN:STANDARD
TZOFFSETFROM:-0700
TZOFFSETTO:-0800
TZNAME:PST
DTSTART:20251102T090000
END:STANDARD
BEGIN:DAYLIGHT
TZOFFSETFROM:-0800
TZOFFSETTO:-0700
TZNAME:PDT
DTSTART:20260308T100000
END:DAYLIGHT
BEGIN:STANDARD
TZOFFSETFROM:-0700
TZOFFSETTO:-0800
TZNAME:PST
DTSTART:20261101T090000
END:STANDARD
BEGIN:DAYLIGHT
TZOFFSETFROM:-0800
TZOFFSETTO:-0700
TZNAME:PDT
DTSTART:20270314T100000
END:DAYLIGHT
BEGIN:STANDARD
TZOFFSETFROM:-0700
TZOFFSETTO:-0800
TZNAME:PST
DTSTART:20271107T090000
END:STANDARD
END:VTIMEZONE
BEGIN:VEVENT
DTSTART;TZID=America/Los_Angeles:20260402T140000
DTEND;TZID=America/Los_Angeles:20260402T170000
DTSTAMP:20260425T153413
CREATED:20260211T004556Z
LAST-MODIFIED:20260211T004557Z
UID:10009686-1775138400-1775149200@services.claremont.edu
SUMMARY:Take Care of Your Mental Health  Drop-in Hours with Dr. Dana Reye
DESCRIPTION:CLSA continues to team up with Dr. Dana Reyes\, MCAPS therapist\, to provide our students with additional wellness support. \nSIGN UP HERE
URL:https://services.claremont.edu/event/take-care-of-your-mental-health-drop-in-hours-with-dr-dana-reye/2026-04-02/
LOCATION:CLSA
CATEGORIES:CLSA
END:VEVENT
BEGIN:VEVENT
DTSTART;TZID=America/Los_Angeles:20260403T153000
DTEND;TZID=America/Los_Angeles:20260403T170000
DTSTAMP:20260425T153413
CREATED:20260127T232317Z
LAST-MODIFIED:20260127T232317Z
UID:10009588-1775230200-1775235600@services.claremont.edu
SUMMARY:CLSA + The Chaplaincy: Healing Through Sound and Stillness
DESCRIPTION:
URL:https://services.claremont.edu/event/clsa-the-chaplaincy-healing-through-sound-and-stillness/
LOCATION:McAlister Center\, 919 N. Columbia Ave.\, Claremont\, CA\, 91711
CATEGORIES:Chaplains,CLSA
END:VEVENT
BEGIN:VEVENT
DTSTART;TZID=America/Los_Angeles:20260409T140000
DTEND;TZID=America/Los_Angeles:20260409T170000
DTSTAMP:20260425T153413
CREATED:20260211T004556Z
LAST-MODIFIED:20260211T004557Z
UID:10009687-1775743200-1775754000@services.claremont.edu
SUMMARY:Take Care of Your Mental Health  Drop-in Hours with Dr. Dana Reye
DESCRIPTION:CLSA continues to team up with Dr. Dana Reyes\, MCAPS therapist\, to provide our students with additional wellness support. \nSIGN UP HERE
URL:https://services.claremont.edu/event/take-care-of-your-mental-health-drop-in-hours-with-dr-dana-reye/2026-04-09/
LOCATION:CLSA
CATEGORIES:CLSA
END:VEVENT
BEGIN:VEVENT
DTSTART;TZID=America/Los_Angeles:20260409T190000
DTEND;TZID=America/Los_Angeles:20260409T203000
DTSTAMP:20260425T153413
CREATED:20260127T232545Z
LAST-MODIFIED:20260127T232545Z
UID:10009589-1775761200-1775766600@services.claremont.edu
SUMMARY:Yosimar Reyes: “Prieto” an Autobiographical One-Man Show
DESCRIPTION:
URL:https://services.claremont.edu/event/yosimar-reyes-prieto-an-autobiographical-one-man-show/
LOCATION:Balch Auditorium     Scripps College
CATEGORIES:CLSA
END:VEVENT
BEGIN:VEVENT
DTSTART;TZID=America/Los_Angeles:20260410T170000
DTEND;TZID=America/Los_Angeles:20260410T180000
DTSTAMP:20260425T153413
CREATED:20260127T232640Z
LAST-MODIFIED:20260127T232640Z
UID:10009590-1775840400-1775844000@services.claremont.edu
SUMMARY:Dinner and Conversation with Nicaraguan Author Prisca Dorcas
DESCRIPTION:
URL:https://services.claremont.edu/event/dinner-and-conversation-with-nicaraguan-author-prisca-dorcas/
LOCATION:2nd floor of McConnell Dining Hall\, Pitzer College
CATEGORIES:CLSA
END:VEVENT
BEGIN:VEVENT
DTSTART;TZID=America/Los_Angeles:20260416T140000
DTEND;TZID=America/Los_Angeles:20260416T170000
DTSTAMP:20260425T153413
CREATED:20260211T004556Z
LAST-MODIFIED:20260211T004557Z
UID:10009688-1776348000-1776358800@services.claremont.edu
SUMMARY:Take Care of Your Mental Health  Drop-in Hours with Dr. Dana Reye
DESCRIPTION:CLSA continues to team up with Dr. Dana Reyes\, MCAPS therapist\, to provide our students with additional wellness support. \nSIGN UP HERE
URL:https://services.claremont.edu/event/take-care-of-your-mental-health-drop-in-hours-with-dr-dana-reye/2026-04-16/
LOCATION:CLSA
CATEGORIES:CLSA
END:VEVENT
BEGIN:VEVENT
DTSTART;TZID=America/Los_Angeles:20260416T160000
DTEND;TZID=America/Los_Angeles:20260416T170000
DTSTAMP:20260425T153413
CREATED:20260127T232734Z
LAST-MODIFIED:20260127T232734Z
UID:10009591-1776355200-1776358800@services.claremont.edu
SUMMARY:“NoNoNosQuitanLoBailado”: Una tarde de arte\, musica y canto
DESCRIPTION:
URL:https://services.claremont.edu/event/nononosquitanlobailado-una-tarde-de-arte-musica-y-canto/
LOCATION:BENTON MUSEUM OF ART\, POMONA COLLEGE
CATEGORIES:CLSA
END:VEVENT
BEGIN:VEVENT
DTSTART;TZID=America/Los_Angeles:20260423T140000
DTEND;TZID=America/Los_Angeles:20260423T170000
DTSTAMP:20260425T153413
CREATED:20260211T004556Z
LAST-MODIFIED:20260211T004557Z
UID:10009689-1776952800-1776963600@services.claremont.edu
SUMMARY:Take Care of Your Mental Health  Drop-in Hours with Dr. Dana Reye
DESCRIPTION:CLSA continues to team up with Dr. Dana Reyes\, MCAPS therapist\, to provide our students with additional wellness support. \nSIGN UP HERE
URL:https://services.claremont.edu/event/take-care-of-your-mental-health-drop-in-hours-with-dr-dana-reye/2026-04-23/
LOCATION:CLSA
CATEGORIES:CLSA
END:VEVENT
BEGIN:VEVENT
DTSTART;TZID=America/Los_Angeles:20260430T140000
DTEND;TZID=America/Los_Angeles:20260430T170000
DTSTAMP:20260425T153413
CREATED:20260211T004556Z
LAST-MODIFIED:20260211T004557Z
UID:10009690-1777557600-1777568400@services.claremont.edu
SUMMARY:Take Care of Your Mental Health  Drop-in Hours with Dr. Dana Reye
DESCRIPTION:CLSA continues to team up with Dr. Dana Reyes\, MCAPS therapist\, to provide our students with additional wellness support. \nSIGN UP HERE
URL:https://services.claremont.edu/event/take-care-of-your-mental-health-drop-in-hours-with-dr-dana-reye/2026-04-30/
LOCATION:CLSA
CATEGORIES:CLSA
END:VEVENT
BEGIN:VEVENT
DTSTART;TZID=America/Los_Angeles:20260501T150000
DTEND;TZID=America/Los_Angeles:20260501T170000
DTSTAMP:20260425T153413
CREATED:20260127T232823Z
LAST-MODIFIED:20260127T233515Z
UID:10009592-1777647600-1777654800@services.claremont.edu
SUMMARY:Alumni Reception: Celebrating 55 Years
DESCRIPTION:Join us for an afternoon of great food and even better company! \nRSVP here by April 17\, 2026 \n2026 CLSA Alumni Reception Flyer
URL:https://services.claremont.edu/event/alumni-reception-celebrating-55-years/
LOCATION:CLSA
CATEGORIES:CLSA
END:VEVENT
BEGIN:VEVENT
DTSTART;TZID=America/Los_Angeles:20260507T140000
DTEND;TZID=America/Los_Angeles:20260507T170000
DTSTAMP:20260425T153413
CREATED:20260211T004556Z
LAST-MODIFIED:20260211T004557Z
UID:10009691-1778162400-1778173200@services.claremont.edu
SUMMARY:Take Care of Your Mental Health  Drop-in Hours with Dr. Dana Reye
DESCRIPTION:CLSA continues to team up with Dr. Dana Reyes\, MCAPS therapist\, to provide our students with additional wellness support. \nSIGN UP HERE
URL:https://services.claremont.edu/event/take-care-of-your-mental-health-drop-in-hours-with-dr-dana-reye/2026-05-07/
LOCATION:CLSA
CATEGORIES:CLSA
END:VEVENT
BEGIN:VEVENT
DTSTART;TZID=America/Los_Angeles:20260514T140000
DTEND;TZID=America/Los_Angeles:20260514T170000
DTSTAMP:20260425T153413
CREATED:20260211T004556Z
LAST-MODIFIED:20260211T004557Z
UID:10009692-1778767200-1778778000@services.claremont.edu
SUMMARY:Take Care of Your Mental Health  Drop-in Hours with Dr. Dana Reye
DESCRIPTION:CLSA continues to team up with Dr. Dana Reyes\, MCAPS therapist\, to provide our students with additional wellness support. \nSIGN UP HERE
URL:https://services.claremont.edu/event/take-care-of-your-mental-health-drop-in-hours-with-dr-dana-reye/2026-05-14/
LOCATION:CLSA
CATEGORIES:CLSA
END:VEVENT
BEGIN:VEVENT
DTSTART;TZID=America/Los_Angeles:20260515T170000
DTEND;TZID=America/Los_Angeles:20260515T210000
DTSTAMP:20260425T153413
CREATED:20260127T232916Z
LAST-MODIFIED:20260127T233654Z
UID:10009593-1778864400-1778878800@services.claremont.edu
SUMMARY:End of Year Celebration
DESCRIPTION:Recognizing Graduating Students and Their Accomplishments \nPre-Reception: 5:00 – 7:00 PM \nCeremony: 7:00 – 9:00 PM \nEnd of Year Celebration Flyer \n 
URL:https://services.claremont.edu/event/end-of-year-celebration/
LOCATION:Garrison Theater\, Scripps College
CATEGORIES:CLSA
END:VEVENT
END:VCALENDAR