BEGIN:VCALENDAR
VERSION:2.0
PRODID:-//The Claremont Colleges Services - ECPv6.15.17.1//NONSGML v1.0//EN
CALSCALE:GREGORIAN
METHOD:PUBLISH
X-ORIGINAL-URL:https://services.claremont.edu
X-WR-CALDESC:Events for The Claremont Colleges Services
REFRESH-INTERVAL;VALUE=DURATION:PT1H
X-Robots-Tag:noindex
X-PUBLISHED-TTL:PT1H
BEGIN:VTIMEZONE
TZID:America/Los_Angeles
BEGIN:DAYLIGHT
TZOFFSETFROM:-0800
TZOFFSETTO:-0700
TZNAME:PDT
DTSTART:20240310T100000
END:DAYLIGHT
BEGIN:STANDARD
TZOFFSETFROM:-0700
TZOFFSETTO:-0800
TZNAME:PST
DTSTART:20241103T090000
END:STANDARD
BEGIN:DAYLIGHT
TZOFFSETFROM:-0800
TZOFFSETTO:-0700
TZNAME:PDT
DTSTART:20250309T100000
END:DAYLIGHT
BEGIN:STANDARD
TZOFFSETFROM:-0700
TZOFFSETTO:-0800
TZNAME:PST
DTSTART:20251102T090000
END:STANDARD
BEGIN:DAYLIGHT
TZOFFSETFROM:-0800
TZOFFSETTO:-0700
TZNAME:PDT
DTSTART:20260308T100000
END:DAYLIGHT
BEGIN:STANDARD
TZOFFSETFROM:-0700
TZOFFSETTO:-0800
TZNAME:PST
DTSTART:20261101T090000
END:STANDARD
END:VTIMEZONE
BEGIN:VEVENT
DTSTART;TZID=America/Los_Angeles:20250425T170000
DTEND;TZID=America/Los_Angeles:20250425T180000
DTSTAMP:20260425T203246
CREATED:20251028T215629Z
LAST-MODIFIED:20260424T234305Z
UID:10009781-1745600400-1745604000@services.claremont.edu
SUMMARY:SHABBAT  - HAPPY HOUR
DESCRIPTION:CANDLES\,  WINE\, CHALLAH & FRIENDS. \nMOST FRIDAYS \n  \nOCT. 31ST  / NOV. 7TH  \, 14TH\, 21ST / DEC. 5TH \n  \nFOR MORE INFO CONTACT   RABBI SALOMON GRUENWALD \n  \nSalomon.gruenwald@claremont. edu
URL:https://services.claremont.edu/event/shabbat-happy-hour/2025-04-25/
LOCATION:McAlister Center\, 919 N. Columbia Ave.\, Claremont\, CA\, 91711
CATEGORIES:Chaplains
ATTACH;FMTTYPE=application/pdf:https://services.claremont.edu/wp-content/uploads/2025/10/Shabbat-Happy-Hour-Flyer.pdf
END:VEVENT
BEGIN:VEVENT
DTSTART;TZID=America/Los_Angeles:20250427T100000
DTEND;TZID=America/Los_Angeles:20250427T110000
DTSTAMP:20260425T203246
CREATED:20250120T215507Z
LAST-MODIFIED:20250120T220449Z
UID:10008815-1745748000-1745751600@services.claremont.edu
SUMMARY:Catholic Mass
DESCRIPTION:Come and fellowship at our Catholic Mass. \nSundays 10am in the McAlister Lounge. \n  \nMore information @  Robert.Ruh@claremont.edu
URL:https://services.claremont.edu/event/catholic-mass-18/2025-04-27/
LOCATION:McAlister Center\, 919 N. Columbia Ave.\, Claremont\, CA\, 91711
CATEGORIES:Chaplains
ATTACH;FMTTYPE=image/jpeg:https://services.claremont.edu/wp-content/uploads/2025/01/NEW-DAY-DATE-CATHOLIC-MASS-10am.jpg
END:VEVENT
BEGIN:VEVENT
DTSTART;TZID=America/Los_Angeles:20250502T170000
DTEND;TZID=America/Los_Angeles:20250502T180000
DTSTAMP:20260425T203246
CREATED:20251028T215629Z
LAST-MODIFIED:20260424T234305Z
UID:10009782-1746205200-1746208800@services.claremont.edu
SUMMARY:SHABBAT  - HAPPY HOUR
DESCRIPTION:CANDLES\,  WINE\, CHALLAH & FRIENDS. \nMOST FRIDAYS \n  \nOCT. 31ST  / NOV. 7TH  \, 14TH\, 21ST / DEC. 5TH \n  \nFOR MORE INFO CONTACT   RABBI SALOMON GRUENWALD \n  \nSalomon.gruenwald@claremont. edu
URL:https://services.claremont.edu/event/shabbat-happy-hour/2025-05-02/
LOCATION:McAlister Center\, 919 N. Columbia Ave.\, Claremont\, CA\, 91711
CATEGORIES:Chaplains
ATTACH;FMTTYPE=application/pdf:https://services.claremont.edu/wp-content/uploads/2025/10/Shabbat-Happy-Hour-Flyer.pdf
END:VEVENT
BEGIN:VEVENT
DTSTART;TZID=America/Los_Angeles:20250504T100000
DTEND;TZID=America/Los_Angeles:20250504T110000
DTSTAMP:20260425T203246
CREATED:20250120T215507Z
LAST-MODIFIED:20250120T220449Z
UID:10008816-1746352800-1746356400@services.claremont.edu
SUMMARY:Catholic Mass
DESCRIPTION:Come and fellowship at our Catholic Mass. \nSundays 10am in the McAlister Lounge. \n  \nMore information @  Robert.Ruh@claremont.edu
URL:https://services.claremont.edu/event/catholic-mass-18/2025-05-04/
LOCATION:McAlister Center\, 919 N. Columbia Ave.\, Claremont\, CA\, 91711
CATEGORIES:Chaplains
ATTACH;FMTTYPE=image/jpeg:https://services.claremont.edu/wp-content/uploads/2025/01/NEW-DAY-DATE-CATHOLIC-MASS-10am.jpg
END:VEVENT
BEGIN:VEVENT
DTSTART;TZID=America/Los_Angeles:20250509T170000
DTEND;TZID=America/Los_Angeles:20250509T180000
DTSTAMP:20260425T203246
CREATED:20251028T215629Z
LAST-MODIFIED:20260424T234305Z
UID:10009783-1746810000-1746813600@services.claremont.edu
SUMMARY:SHABBAT  - HAPPY HOUR
DESCRIPTION:CANDLES\,  WINE\, CHALLAH & FRIENDS. \nMOST FRIDAYS \n  \nOCT. 31ST  / NOV. 7TH  \, 14TH\, 21ST / DEC. 5TH \n  \nFOR MORE INFO CONTACT   RABBI SALOMON GRUENWALD \n  \nSalomon.gruenwald@claremont. edu
URL:https://services.claremont.edu/event/shabbat-happy-hour/2025-05-09/
LOCATION:McAlister Center\, 919 N. Columbia Ave.\, Claremont\, CA\, 91711
CATEGORIES:Chaplains
ATTACH;FMTTYPE=application/pdf:https://services.claremont.edu/wp-content/uploads/2025/10/Shabbat-Happy-Hour-Flyer.pdf
END:VEVENT
BEGIN:VEVENT
DTSTART;TZID=America/Los_Angeles:20250511T100000
DTEND;TZID=America/Los_Angeles:20250511T110000
DTSTAMP:20260425T203246
CREATED:20250120T215507Z
LAST-MODIFIED:20250120T220449Z
UID:10008817-1746957600-1746961200@services.claremont.edu
SUMMARY:Catholic Mass
DESCRIPTION:Come and fellowship at our Catholic Mass. \nSundays 10am in the McAlister Lounge. \n  \nMore information @  Robert.Ruh@claremont.edu
URL:https://services.claremont.edu/event/catholic-mass-18/2025-05-11/
LOCATION:McAlister Center\, 919 N. Columbia Ave.\, Claremont\, CA\, 91711
CATEGORIES:Chaplains
ATTACH;FMTTYPE=image/jpeg:https://services.claremont.edu/wp-content/uploads/2025/01/NEW-DAY-DATE-CATHOLIC-MASS-10am.jpg
END:VEVENT
BEGIN:VEVENT
DTSTART;TZID=America/Los_Angeles:20250516T153000
DTEND;TZID=America/Los_Angeles:20250516T183000
DTSTAMP:20260425T203246
CREATED:20250425T204748Z
LAST-MODIFIED:20250425T204748Z
UID:10008935-1747409400-1747420200@services.claremont.edu
SUMMARY:Interfaith Baccalaureate Ceremony
DESCRIPTION:Join the Chaplains Office for our Interfaith Baccalaureate Ceremony at Balch Auditorium at Scripps College on Friday\, May 16\, 2025 at 3:30 PM. We are thankful to keynote speaker Rev. Zandra Wagoner\, PH.D from the University of LaVerne.
URL:https://services.claremont.edu/event/interfaith-baccalaureate-ceremony/
LOCATION:Balch Auditorium     Scripps College
CATEGORIES:Chaplains
END:VEVENT
BEGIN:VEVENT
DTSTART;TZID=America/Los_Angeles:20250516T170000
DTEND;TZID=America/Los_Angeles:20250516T180000
DTSTAMP:20260425T203246
CREATED:20251028T215629Z
LAST-MODIFIED:20260424T234305Z
UID:10009784-1747414800-1747418400@services.claremont.edu
SUMMARY:SHABBAT  - HAPPY HOUR
DESCRIPTION:CANDLES\,  WINE\, CHALLAH & FRIENDS. \nMOST FRIDAYS \n  \nOCT. 31ST  / NOV. 7TH  \, 14TH\, 21ST / DEC. 5TH \n  \nFOR MORE INFO CONTACT   RABBI SALOMON GRUENWALD \n  \nSalomon.gruenwald@claremont. edu
URL:https://services.claremont.edu/event/shabbat-happy-hour/2025-05-16/
LOCATION:McAlister Center\, 919 N. Columbia Ave.\, Claremont\, CA\, 91711
CATEGORIES:Chaplains
ATTACH;FMTTYPE=application/pdf:https://services.claremont.edu/wp-content/uploads/2025/10/Shabbat-Happy-Hour-Flyer.pdf
END:VEVENT
BEGIN:VEVENT
DTSTART;TZID=America/Los_Angeles:20250523T170000
DTEND;TZID=America/Los_Angeles:20250523T180000
DTSTAMP:20260425T203246
CREATED:20251028T215629Z
LAST-MODIFIED:20260424T234305Z
UID:10009785-1748019600-1748023200@services.claremont.edu
SUMMARY:SHABBAT  - HAPPY HOUR
DESCRIPTION:CANDLES\,  WINE\, CHALLAH & FRIENDS. \nMOST FRIDAYS \n  \nOCT. 31ST  / NOV. 7TH  \, 14TH\, 21ST / DEC. 5TH \n  \nFOR MORE INFO CONTACT   RABBI SALOMON GRUENWALD \n  \nSalomon.gruenwald@claremont. edu
URL:https://services.claremont.edu/event/shabbat-happy-hour/2025-05-23/
LOCATION:McAlister Center\, 919 N. Columbia Ave.\, Claremont\, CA\, 91711
CATEGORIES:Chaplains
ATTACH;FMTTYPE=application/pdf:https://services.claremont.edu/wp-content/uploads/2025/10/Shabbat-Happy-Hour-Flyer.pdf
END:VEVENT
BEGIN:VEVENT
DTSTART;TZID=America/Los_Angeles:20250530T170000
DTEND;TZID=America/Los_Angeles:20250530T180000
DTSTAMP:20260425T203246
CREATED:20251028T215629Z
LAST-MODIFIED:20260424T234305Z
UID:10009786-1748624400-1748628000@services.claremont.edu
SUMMARY:SHABBAT  - HAPPY HOUR
DESCRIPTION:CANDLES\,  WINE\, CHALLAH & FRIENDS. \nMOST FRIDAYS \n  \nOCT. 31ST  / NOV. 7TH  \, 14TH\, 21ST / DEC. 5TH \n  \nFOR MORE INFO CONTACT   RABBI SALOMON GRUENWALD \n  \nSalomon.gruenwald@claremont. edu
URL:https://services.claremont.edu/event/shabbat-happy-hour/2025-05-30/
LOCATION:McAlister Center\, 919 N. Columbia Ave.\, Claremont\, CA\, 91711
CATEGORIES:Chaplains
ATTACH;FMTTYPE=application/pdf:https://services.claremont.edu/wp-content/uploads/2025/10/Shabbat-Happy-Hour-Flyer.pdf
END:VEVENT
BEGIN:VEVENT
DTSTART;TZID=America/Los_Angeles:20250606T170000
DTEND;TZID=America/Los_Angeles:20250606T180000
DTSTAMP:20260425T203246
CREATED:20251028T215629Z
LAST-MODIFIED:20260424T234305Z
UID:10009787-1749229200-1749232800@services.claremont.edu
SUMMARY:SHABBAT  - HAPPY HOUR
DESCRIPTION:CANDLES\,  WINE\, CHALLAH & FRIENDS. \nMOST FRIDAYS \n  \nOCT. 31ST  / NOV. 7TH  \, 14TH\, 21ST / DEC. 5TH \n  \nFOR MORE INFO CONTACT   RABBI SALOMON GRUENWALD \n  \nSalomon.gruenwald@claremont. edu
URL:https://services.claremont.edu/event/shabbat-happy-hour/2025-06-06/
LOCATION:McAlister Center\, 919 N. Columbia Ave.\, Claremont\, CA\, 91711
CATEGORIES:Chaplains
ATTACH;FMTTYPE=application/pdf:https://services.claremont.edu/wp-content/uploads/2025/10/Shabbat-Happy-Hour-Flyer.pdf
END:VEVENT
BEGIN:VEVENT
DTSTART;TZID=America/Los_Angeles:20250613T170000
DTEND;TZID=America/Los_Angeles:20250613T180000
DTSTAMP:20260425T203246
CREATED:20251028T215629Z
LAST-MODIFIED:20260424T234305Z
UID:10009788-1749834000-1749837600@services.claremont.edu
SUMMARY:SHABBAT  - HAPPY HOUR
DESCRIPTION:CANDLES\,  WINE\, CHALLAH & FRIENDS. \nMOST FRIDAYS \n  \nOCT. 31ST  / NOV. 7TH  \, 14TH\, 21ST / DEC. 5TH \n  \nFOR MORE INFO CONTACT   RABBI SALOMON GRUENWALD \n  \nSalomon.gruenwald@claremont. edu
URL:https://services.claremont.edu/event/shabbat-happy-hour/2025-06-13/
LOCATION:McAlister Center\, 919 N. Columbia Ave.\, Claremont\, CA\, 91711
CATEGORIES:Chaplains
ATTACH;FMTTYPE=application/pdf:https://services.claremont.edu/wp-content/uploads/2025/10/Shabbat-Happy-Hour-Flyer.pdf
END:VEVENT
BEGIN:VEVENT
DTSTART;TZID=America/Los_Angeles:20250620T170000
DTEND;TZID=America/Los_Angeles:20250620T180000
DTSTAMP:20260425T203246
CREATED:20251028T215629Z
LAST-MODIFIED:20260424T234305Z
UID:10009789-1750438800-1750442400@services.claremont.edu
SUMMARY:SHABBAT  - HAPPY HOUR
DESCRIPTION:CANDLES\,  WINE\, CHALLAH & FRIENDS. \nMOST FRIDAYS \n  \nOCT. 31ST  / NOV. 7TH  \, 14TH\, 21ST / DEC. 5TH \n  \nFOR MORE INFO CONTACT   RABBI SALOMON GRUENWALD \n  \nSalomon.gruenwald@claremont. edu
URL:https://services.claremont.edu/event/shabbat-happy-hour/2025-06-20/
LOCATION:McAlister Center\, 919 N. Columbia Ave.\, Claremont\, CA\, 91711
CATEGORIES:Chaplains
ATTACH;FMTTYPE=application/pdf:https://services.claremont.edu/wp-content/uploads/2025/10/Shabbat-Happy-Hour-Flyer.pdf
END:VEVENT
BEGIN:VEVENT
DTSTART;TZID=America/Los_Angeles:20250627T170000
DTEND;TZID=America/Los_Angeles:20250627T180000
DTSTAMP:20260425T203246
CREATED:20251028T215629Z
LAST-MODIFIED:20260424T234305Z
UID:10009790-1751043600-1751047200@services.claremont.edu
SUMMARY:SHABBAT  - HAPPY HOUR
DESCRIPTION:CANDLES\,  WINE\, CHALLAH & FRIENDS. \nMOST FRIDAYS \n  \nOCT. 31ST  / NOV. 7TH  \, 14TH\, 21ST / DEC. 5TH \n  \nFOR MORE INFO CONTACT   RABBI SALOMON GRUENWALD \n  \nSalomon.gruenwald@claremont. edu
URL:https://services.claremont.edu/event/shabbat-happy-hour/2025-06-27/
LOCATION:McAlister Center\, 919 N. Columbia Ave.\, Claremont\, CA\, 91711
CATEGORIES:Chaplains
ATTACH;FMTTYPE=application/pdf:https://services.claremont.edu/wp-content/uploads/2025/10/Shabbat-Happy-Hour-Flyer.pdf
END:VEVENT
BEGIN:VEVENT
DTSTART;TZID=America/Los_Angeles:20250630T080000
DTEND;TZID=America/Los_Angeles:20250630T170000
DTSTAMP:20260425T203246
CREATED:20250624T011033Z
LAST-MODIFIED:20250624T011033Z
UID:10008939-1751270400-1751302800@services.claremont.edu
SUMMARY:Sample Event
DESCRIPTION:THis is a sample event to make sure we can see them on the calendar.
URL:https://services.claremont.edu/event/sample-event/
LOCATION:CA
CATEGORIES:Chaplains,Interfaith
END:VEVENT
BEGIN:VEVENT
DTSTART;TZID=America/Los_Angeles:20250704T170000
DTEND;TZID=America/Los_Angeles:20250704T180000
DTSTAMP:20260425T203246
CREATED:20251028T215629Z
LAST-MODIFIED:20260424T234305Z
UID:10009791-1751648400-1751652000@services.claremont.edu
SUMMARY:SHABBAT  - HAPPY HOUR
DESCRIPTION:CANDLES\,  WINE\, CHALLAH & FRIENDS. \nMOST FRIDAYS \n  \nOCT. 31ST  / NOV. 7TH  \, 14TH\, 21ST / DEC. 5TH \n  \nFOR MORE INFO CONTACT   RABBI SALOMON GRUENWALD \n  \nSalomon.gruenwald@claremont. edu
URL:https://services.claremont.edu/event/shabbat-happy-hour/2025-07-04/
LOCATION:McAlister Center\, 919 N. Columbia Ave.\, Claremont\, CA\, 91711
CATEGORIES:Chaplains
ATTACH;FMTTYPE=application/pdf:https://services.claremont.edu/wp-content/uploads/2025/10/Shabbat-Happy-Hour-Flyer.pdf
END:VEVENT
BEGIN:VEVENT
DTSTART;TZID=America/Los_Angeles:20250711T170000
DTEND;TZID=America/Los_Angeles:20250711T180000
DTSTAMP:20260425T203246
CREATED:20251028T215629Z
LAST-MODIFIED:20260424T234305Z
UID:10009792-1752253200-1752256800@services.claremont.edu
SUMMARY:SHABBAT  - HAPPY HOUR
DESCRIPTION:CANDLES\,  WINE\, CHALLAH & FRIENDS. \nMOST FRIDAYS \n  \nOCT. 31ST  / NOV. 7TH  \, 14TH\, 21ST / DEC. 5TH \n  \nFOR MORE INFO CONTACT   RABBI SALOMON GRUENWALD \n  \nSalomon.gruenwald@claremont. edu
URL:https://services.claremont.edu/event/shabbat-happy-hour/2025-07-11/
LOCATION:McAlister Center\, 919 N. Columbia Ave.\, Claremont\, CA\, 91711
CATEGORIES:Chaplains
ATTACH;FMTTYPE=application/pdf:https://services.claremont.edu/wp-content/uploads/2025/10/Shabbat-Happy-Hour-Flyer.pdf
END:VEVENT
BEGIN:VEVENT
DTSTART;TZID=America/Los_Angeles:20250718T170000
DTEND;TZID=America/Los_Angeles:20250718T180000
DTSTAMP:20260425T203246
CREATED:20251028T215629Z
LAST-MODIFIED:20260424T234305Z
UID:10009793-1752858000-1752861600@services.claremont.edu
SUMMARY:SHABBAT  - HAPPY HOUR
DESCRIPTION:CANDLES\,  WINE\, CHALLAH & FRIENDS. \nMOST FRIDAYS \n  \nOCT. 31ST  / NOV. 7TH  \, 14TH\, 21ST / DEC. 5TH \n  \nFOR MORE INFO CONTACT   RABBI SALOMON GRUENWALD \n  \nSalomon.gruenwald@claremont. edu
URL:https://services.claremont.edu/event/shabbat-happy-hour/2025-07-18/
LOCATION:McAlister Center\, 919 N. Columbia Ave.\, Claremont\, CA\, 91711
CATEGORIES:Chaplains
ATTACH;FMTTYPE=application/pdf:https://services.claremont.edu/wp-content/uploads/2025/10/Shabbat-Happy-Hour-Flyer.pdf
END:VEVENT
BEGIN:VEVENT
DTSTART;TZID=America/Los_Angeles:20250725T170000
DTEND;TZID=America/Los_Angeles:20250725T180000
DTSTAMP:20260425T203246
CREATED:20251028T215629Z
LAST-MODIFIED:20260424T234305Z
UID:10009794-1753462800-1753466400@services.claremont.edu
SUMMARY:SHABBAT  - HAPPY HOUR
DESCRIPTION:CANDLES\,  WINE\, CHALLAH & FRIENDS. \nMOST FRIDAYS \n  \nOCT. 31ST  / NOV. 7TH  \, 14TH\, 21ST / DEC. 5TH \n  \nFOR MORE INFO CONTACT   RABBI SALOMON GRUENWALD \n  \nSalomon.gruenwald@claremont. edu
URL:https://services.claremont.edu/event/shabbat-happy-hour/2025-07-25/
LOCATION:McAlister Center\, 919 N. Columbia Ave.\, Claremont\, CA\, 91711
CATEGORIES:Chaplains
ATTACH;FMTTYPE=application/pdf:https://services.claremont.edu/wp-content/uploads/2025/10/Shabbat-Happy-Hour-Flyer.pdf
END:VEVENT
BEGIN:VEVENT
DTSTART;TZID=America/Los_Angeles:20250801T170000
DTEND;TZID=America/Los_Angeles:20250801T180000
DTSTAMP:20260425T203246
CREATED:20251028T215629Z
LAST-MODIFIED:20260424T234305Z
UID:10009795-1754067600-1754071200@services.claremont.edu
SUMMARY:SHABBAT  - HAPPY HOUR
DESCRIPTION:CANDLES\,  WINE\, CHALLAH & FRIENDS. \nMOST FRIDAYS \n  \nOCT. 31ST  / NOV. 7TH  \, 14TH\, 21ST / DEC. 5TH \n  \nFOR MORE INFO CONTACT   RABBI SALOMON GRUENWALD \n  \nSalomon.gruenwald@claremont. edu
URL:https://services.claremont.edu/event/shabbat-happy-hour/2025-08-01/
LOCATION:McAlister Center\, 919 N. Columbia Ave.\, Claremont\, CA\, 91711
CATEGORIES:Chaplains
ATTACH;FMTTYPE=application/pdf:https://services.claremont.edu/wp-content/uploads/2025/10/Shabbat-Happy-Hour-Flyer.pdf
END:VEVENT
BEGIN:VEVENT
DTSTART;TZID=America/Los_Angeles:20250808T170000
DTEND;TZID=America/Los_Angeles:20250808T180000
DTSTAMP:20260425T203246
CREATED:20251028T215629Z
LAST-MODIFIED:20260424T234305Z
UID:10009796-1754672400-1754676000@services.claremont.edu
SUMMARY:SHABBAT  - HAPPY HOUR
DESCRIPTION:CANDLES\,  WINE\, CHALLAH & FRIENDS. \nMOST FRIDAYS \n  \nOCT. 31ST  / NOV. 7TH  \, 14TH\, 21ST / DEC. 5TH \n  \nFOR MORE INFO CONTACT   RABBI SALOMON GRUENWALD \n  \nSalomon.gruenwald@claremont. edu
URL:https://services.claremont.edu/event/shabbat-happy-hour/2025-08-08/
LOCATION:McAlister Center\, 919 N. Columbia Ave.\, Claremont\, CA\, 91711
CATEGORIES:Chaplains
ATTACH;FMTTYPE=application/pdf:https://services.claremont.edu/wp-content/uploads/2025/10/Shabbat-Happy-Hour-Flyer.pdf
END:VEVENT
BEGIN:VEVENT
DTSTART;TZID=America/Los_Angeles:20250815T170000
DTEND;TZID=America/Los_Angeles:20250815T180000
DTSTAMP:20260425T203246
CREATED:20251028T215629Z
LAST-MODIFIED:20260424T234305Z
UID:10009797-1755277200-1755280800@services.claremont.edu
SUMMARY:SHABBAT  - HAPPY HOUR
DESCRIPTION:CANDLES\,  WINE\, CHALLAH & FRIENDS. \nMOST FRIDAYS \n  \nOCT. 31ST  / NOV. 7TH  \, 14TH\, 21ST / DEC. 5TH \n  \nFOR MORE INFO CONTACT   RABBI SALOMON GRUENWALD \n  \nSalomon.gruenwald@claremont. edu
URL:https://services.claremont.edu/event/shabbat-happy-hour/2025-08-15/
LOCATION:McAlister Center\, 919 N. Columbia Ave.\, Claremont\, CA\, 91711
CATEGORIES:Chaplains
ATTACH;FMTTYPE=application/pdf:https://services.claremont.edu/wp-content/uploads/2025/10/Shabbat-Happy-Hour-Flyer.pdf
END:VEVENT
BEGIN:VEVENT
DTSTART;TZID=America/Los_Angeles:20250822T170000
DTEND;TZID=America/Los_Angeles:20250822T180000
DTSTAMP:20260425T203246
CREATED:20251028T215629Z
LAST-MODIFIED:20260424T234305Z
UID:10009798-1755882000-1755885600@services.claremont.edu
SUMMARY:SHABBAT  - HAPPY HOUR
DESCRIPTION:CANDLES\,  WINE\, CHALLAH & FRIENDS. \nMOST FRIDAYS \n  \nOCT. 31ST  / NOV. 7TH  \, 14TH\, 21ST / DEC. 5TH \n  \nFOR MORE INFO CONTACT   RABBI SALOMON GRUENWALD \n  \nSalomon.gruenwald@claremont. edu
URL:https://services.claremont.edu/event/shabbat-happy-hour/2025-08-22/
LOCATION:McAlister Center\, 919 N. Columbia Ave.\, Claremont\, CA\, 91711
CATEGORIES:Chaplains
ATTACH;FMTTYPE=application/pdf:https://services.claremont.edu/wp-content/uploads/2025/10/Shabbat-Happy-Hour-Flyer.pdf
END:VEVENT
BEGIN:VEVENT
DTSTART;TZID=America/Los_Angeles:20250822T181500
DTEND;TZID=America/Los_Angeles:20250822T200000
DTSTAMP:20260425T203246
CREATED:20250818T214904Z
LAST-MODIFIED:20250818T214904Z
UID:10009023-1755886500-1755892800@services.claremont.edu
SUMMARY:SHABBAT DINNER-  FIRST YEAR STUDENTS
DESCRIPTION:COME AND  JOIN US FOR SHABBAT DINNER – FIRST YEAR STUDENTS \n  \nON  FRIDAY\,  AUGUST 22ND\, 2025 @ 6:15PM   IN THE \nMCALISTER CENTER FOR RELIGIOUS AND SPIRITUAL LIFE \n919 N. COLUMBIA AVE \nCLAREMONT\, CA  91711 \nFOR MORE INFORMATION CONTACT:    RABBI SALOMON GRUENWALD   @   Salomon.Gruenwald@claremont.edu
URL:https://services.claremont.edu/event/shabbat-dinner-first-year-students/
LOCATION:McAlister Center\, 919 N. Columbia Ave.\, Claremont\, CA\, 91711
CATEGORIES:Chaplains
END:VEVENT
BEGIN:VEVENT
DTSTART;TZID=America/Los_Angeles:20250829T170000
DTEND;TZID=America/Los_Angeles:20250829T180000
DTSTAMP:20260425T203246
CREATED:20251028T215629Z
LAST-MODIFIED:20260424T234305Z
UID:10009799-1756486800-1756490400@services.claremont.edu
SUMMARY:SHABBAT  - HAPPY HOUR
DESCRIPTION:CANDLES\,  WINE\, CHALLAH & FRIENDS. \nMOST FRIDAYS \n  \nOCT. 31ST  / NOV. 7TH  \, 14TH\, 21ST / DEC. 5TH \n  \nFOR MORE INFO CONTACT   RABBI SALOMON GRUENWALD \n  \nSalomon.gruenwald@claremont. edu
URL:https://services.claremont.edu/event/shabbat-happy-hour/2025-08-29/
LOCATION:McAlister Center\, 919 N. Columbia Ave.\, Claremont\, CA\, 91711
CATEGORIES:Chaplains
ATTACH;FMTTYPE=application/pdf:https://services.claremont.edu/wp-content/uploads/2025/10/Shabbat-Happy-Hour-Flyer.pdf
END:VEVENT
BEGIN:VEVENT
DTSTART;TZID=America/Los_Angeles:20250905T170000
DTEND;TZID=America/Los_Angeles:20250905T180000
DTSTAMP:20260425T203246
CREATED:20251028T215629Z
LAST-MODIFIED:20260424T234305Z
UID:10009800-1757091600-1757095200@services.claremont.edu
SUMMARY:SHABBAT  - HAPPY HOUR
DESCRIPTION:CANDLES\,  WINE\, CHALLAH & FRIENDS. \nMOST FRIDAYS \n  \nOCT. 31ST  / NOV. 7TH  \, 14TH\, 21ST / DEC. 5TH \n  \nFOR MORE INFO CONTACT   RABBI SALOMON GRUENWALD \n  \nSalomon.gruenwald@claremont. edu
URL:https://services.claremont.edu/event/shabbat-happy-hour/2025-09-05/
LOCATION:McAlister Center\, 919 N. Columbia Ave.\, Claremont\, CA\, 91711
CATEGORIES:Chaplains
ATTACH;FMTTYPE=application/pdf:https://services.claremont.edu/wp-content/uploads/2025/10/Shabbat-Happy-Hour-Flyer.pdf
END:VEVENT
BEGIN:VEVENT
DTSTART;TZID=America/Los_Angeles:20250907T100000
DTEND;TZID=America/Los_Angeles:20250907T100000
DTSTAMP:20260425T203246
CREATED:20250906T035934Z
LAST-MODIFIED:20251205T075443Z
UID:10009027-1757239200-1757239200@services.claremont.edu
SUMMARY:Catholic Mass
DESCRIPTION:Rosary 9:30 AM \nChapel\, Confessions 9:30 AM
URL:https://services.claremont.edu/event/catholic-mass-20/2025-09-07/
LOCATION:McAlister Center\, 919 N. Columbia Ave.\, Claremont\, CA\, 91711
CATEGORIES:Chaplains
END:VEVENT
BEGIN:VEVENT
DTSTART;TZID=America/Los_Angeles:20250908T170000
DTEND;TZID=America/Los_Angeles:20250908T170000
DTSTAMP:20260425T203246
CREATED:20250906T040305Z
LAST-MODIFIED:20251205T075234Z
UID:10009063-1757350800-1757350800@services.claremont.edu
SUMMARY:Eucharistic Adoration
DESCRIPTION:
URL:https://services.claremont.edu/event/eucharistic-adoration/2025-09-08/
LOCATION:McAlister Center\, 919 N. Columbia Ave.\, Claremont\, CA\, 91711
CATEGORIES:Chaplains
END:VEVENT
BEGIN:VEVENT
DTSTART;TZID=America/Los_Angeles:20250908T180000
DTEND;TZID=America/Los_Angeles:20250908T180000
DTSTAMP:20260425T203246
CREATED:20250906T041851Z
LAST-MODIFIED:20251205T075322Z
UID:10009099-1757354400-1757354400@services.claremont.edu
SUMMARY:Catholic Student Dinner
DESCRIPTION:McAlister Lounge at 6 PM \nBible Study to follow at 7 PM
URL:https://services.claremont.edu/event/catholic-student-dinner/2025-09-08/
LOCATION:McAlister Center\, 919 N. Columbia Ave.\, Claremont\, CA\, 91711
CATEGORIES:Chaplains
END:VEVENT
BEGIN:VEVENT
DTSTART;TZID=America/Los_Angeles:20250910T120000
DTEND;TZID=America/Los_Angeles:20250910T130000
DTSTAMP:20260425T203246
CREATED:20250906T042256Z
LAST-MODIFIED:20251118T221633Z
UID:10009135-1757505600-1757509200@services.claremont.edu
SUMMARY:Contemplation and Conversation with Lunch!
DESCRIPTION:RSL Library
URL:https://services.claremont.edu/event/contemplation-and-conversation-with-lunch/2025-09-10/
LOCATION:McAlister Center\, 919 N. Columbia Ave.\, Claremont\, CA\, 91711
CATEGORIES:Chaplains
END:VEVENT
END:VCALENDAR