BEGIN:VCALENDAR
VERSION:2.0
PRODID:-//The Claremont Colleges Services - ECPv6.15.17.1//NONSGML v1.0//EN
CALSCALE:GREGORIAN
METHOD:PUBLISH
X-WR-CALNAME:The Claremont Colleges Services
X-ORIGINAL-URL:https://services.claremont.edu
X-WR-CALDESC:Events for The Claremont Colleges Services
REFRESH-INTERVAL;VALUE=DURATION:PT1H
X-Robots-Tag:noindex
X-PUBLISHED-TTL:PT1H
BEGIN:VTIMEZONE
TZID:America/Los_Angeles
BEGIN:DAYLIGHT
TZOFFSETFROM:-0800
TZOFFSETTO:-0700
TZNAME:PDT
DTSTART:20230312T100000
END:DAYLIGHT
BEGIN:STANDARD
TZOFFSETFROM:-0700
TZOFFSETTO:-0800
TZNAME:PST
DTSTART:20231105T090000
END:STANDARD
BEGIN:DAYLIGHT
TZOFFSETFROM:-0800
TZOFFSETTO:-0700
TZNAME:PDT
DTSTART:20240310T100000
END:DAYLIGHT
BEGIN:STANDARD
TZOFFSETFROM:-0700
TZOFFSETTO:-0800
TZNAME:PST
DTSTART:20241103T090000
END:STANDARD
BEGIN:DAYLIGHT
TZOFFSETFROM:-0800
TZOFFSETTO:-0700
TZNAME:PDT
DTSTART:20250309T100000
END:DAYLIGHT
BEGIN:STANDARD
TZOFFSETFROM:-0700
TZOFFSETTO:-0800
TZNAME:PST
DTSTART:20251102T090000
END:STANDARD
END:VTIMEZONE
BEGIN:VEVENT
DTSTART;TZID=America/Los_Angeles:20241012T090000
DTEND;TZID=America/Los_Angeles:20241012T100000
DTSTAMP:20260419T150906
CREATED:20240923T233343Z
LAST-MODIFIED:20240923T233343Z
UID:10008257-1728723600-1728727200@services.claremont.edu
SUMMARY:Yom Kippur
DESCRIPTION:Yom Kippur ceremony held on Saturday\, October 12th   at 9am at Balch Auditorium. \n  \nFor more information:  Rabbi Danny Lutz \ndanny.lutz@claremeont.edu
URL:https://services.claremont.edu/event/yom-kippur-2/
LOCATION:Balch Auditorium     Scripps College
CATEGORIES:Chaplains
END:VEVENT
BEGIN:VEVENT
DTSTART;TZID=America/Los_Angeles:20241012T090000
DTEND;TZID=America/Los_Angeles:20241012T140000
DTSTAMP:20260419T150906
CREATED:20241010T201318Z
LAST-MODIFIED:20241010T201318Z
UID:10008302-1728723600-1728741600@services.claremont.edu
SUMMARY:YOM KIPPUR
DESCRIPTION:HELD AT \nBALCH AUDITORIUM\, SCRIPPS \n1030 COLUMBIA AVE CLAREMONT\, CA 91711 \n  \nFOR MORE INFORMATION: \nDANNY.LUTZ@CLAREMONT.EDU \n 
URL:https://services.claremont.edu/event/yom-kippur-4/2024-10-12/
CATEGORIES:Chaplains
ATTACH;FMTTYPE=image/jpeg:https://services.claremont.edu/wp-content/uploads/2024/10/Yom-Kippur-Dates-1.jpg
END:VEVENT
END:VCALENDAR